BEGIN:VCALENDAR
VERSION:2.0
PRODID:-//www.insightmcc.org//NONSGML kigkonsult.se iCalcreator 2.30.10//
CALSCALE:GREGORIAN
METHOD:PUBLISH
UID:556b2d95-42be-46ce-ae7c-aa322b263454
X-WR-CALDESC:This group is specifically designed for caregivers whose loved
  one has received a diagnosis of frontotemporal degeneration. Get to know 
 other families who are in a similar situation\, while also  learning pract
 ical caregiving tips and sharing personal concerns and successes.\n\nFeel 
 free to drop in\, or contact Lindsey for more information!
X-WR-RELCALID:88be139f1cb8cefbc1b474110c10cd63
X-WR-TIMEZONE:America/New_York
BEGIN:VTIMEZONE
TZID:America/New_York
BEGIN:STANDARD
TZNAME:EST
DTSTART:20191103T020000
TZOFFSETFROM:-0400
TZOFFSETTO:-0500
RDATE:20201101T020000
END:STANDARD
BEGIN:DAYLIGHT
TZNAME:EDT
DTSTART:20190310T020000
TZOFFSETFROM:-0500
TZOFFSETTO:-0400
RDATE:20200308T020000
RDATE:20210314T020000
END:DAYLIGHT
END:VTIMEZONE
BEGIN:VEVENT
UID:2568ebe0-747d-4c2a-8120-d2098b7dcd32
DTSTAMP:20260424T174754Z
DESCRIPTION:This group is specifically designed for caregivers whose loved 
 one has received a diagnosis of frontotemporal degeneration. Get to know o
 ther families who are in a similar situation\, while also  learning practi
 cal caregiving tips and sharing personal concerns and successes.\n\nFeel f
 ree to drop in\, or contact Lindsey for more information!
DTSTART;TZID=America/New_York:20200107T130000
DTEND;TZID=America/New_York:20200107T143000
LOCATION:Insight Memory Care Center\, 3953 Pender Drive\, Suite 100\, Fairf
 ax\, VA 22030
SUMMARY:FTD Support Group
END:VEVENT
END:VCALENDAR
