BEGIN:VCALENDAR
VERSION:2.0
PRODID:-//www.insightmcc.org//NONSGML kigkonsult.se iCalcreator 2.30.10//
CALSCALE:GREGORIAN
METHOD:PUBLISH
UID:93282d64-8a3a-4972-8a41-f40b2308ac7e
X-WR-CALDESC:Join us for our monthly brown bag lunch meeting on the second 
 Wednesday of each month. Bring your lunch and catch up with Insight friend
 s while discussing current ways to help out!\n\n<strong>About Friends of I
 nsight:</strong>\nFriends of Insight supports Insight through development\
 , volunteerism\, and advocacy to maintain and build relationships through 
 social activities. Friends of Insight members are families that have or ha
 d a loved one with a diagnosis of dementia and have a connection to Insigh
 t Memory Care Center. Their connection could be through attending any of I
 nsight’s programs and services. We welcome you to join us!
X-WR-RELCALID:fd6b6359d33f6349372cbbebc9c19481
X-WR-TIMEZONE:America/New_York
BEGIN:VTIMEZONE
TZID:America/New_York
BEGIN:STANDARD
TZNAME:EST
DTSTART:20191103T020000
TZOFFSETFROM:-0400
TZOFFSETTO:-0500
RDATE:20201101T020000
END:STANDARD
BEGIN:DAYLIGHT
TZNAME:EDT
DTSTART:20190310T020000
TZOFFSETFROM:-0500
TZOFFSETTO:-0400
RDATE:20200308T020000
RDATE:20210314T020000
END:DAYLIGHT
END:VTIMEZONE
BEGIN:VEVENT
UID:0bc28796-a221-461c-b4bf-02845c4d8c0c
DTSTAMP:20260424T175943Z
DESCRIPTION:Join us for our monthly brown bag lunch meeting on the second W
 ednesday of each month. Bring your lunch and catch up with Insight friends
  while discussing current ways to help out!\n\n<strong>About Friends of In
 sight:</strong>\nFriends of Insight supports Insight through development\,
  volunteerism\, and advocacy to maintain and build relationships through s
 ocial activities. Friends of Insight members are families that have or had
  a loved one with a diagnosis of dementia and have a connection to Insight
  Memory Care Center. Their connection could be through attending any of In
 sight’s programs and services. We welcome you to join us!
DTSTART;TZID=America/New_York:20200108T120000
DTEND;TZID=America/New_York:20200108T140000
LOCATION:3953 Pender Drive\, Suite 100\, Fairfax\, VA 22030
SUMMARY:Friends of Insight Meeting
END:VEVENT
END:VCALENDAR
