BEGIN:VCALENDAR
VERSION:2.0
PRODID:-//www.insightmcc.org//NONSGML kigkonsult.se iCalcreator 2.30.10//
CALSCALE:GREGORIAN
METHOD:PUBLISH
UID:abb55ec6-5494-481c-9b6d-fc488de9c9e2
X-WR-CALDESC:Join us for a discussion on changes that occur with age\, warn
 ing signs of a memory problem\, and what to do if someone you love is expe
 riencing symptoms of dementia. \n\nThis program is a part of our ongoing C
 lasses for Caregivers series. All sessions are FREE\, and held the third W
 ednesday of each month from 1:00 to 3:00 pm. Respite care may be available
  by request\; please notify us when registering to confirm availability.\n
 \n<strong>Presenter:</strong>\nAlec A. Lebedun\, Ph.D.\, Neuropsychologist
 \nDr. Alec A. Lebedun attained his Doctoral Degree in psychology from Nort
 hwestern University and then practiced for three years in the Air Force as
  a general psychologist. He currently is practicing as an independent clin
 ician\, with a significant percentage of his practice devoted to the asses
 sment and treatment of brain injured and senior clients both as outpatient
 s and in inpatient/residential settings.
X-WR-RELCALID:bc56684c8266817771c510a172e20cbc
X-WR-TIMEZONE:America/New_York
BEGIN:VTIMEZONE
TZID:America/New_York
BEGIN:STANDARD
TZNAME:EST
DTSTART:20191103T020000
TZOFFSETFROM:-0400
TZOFFSETTO:-0500
RDATE:20201101T020000
END:STANDARD
BEGIN:DAYLIGHT
TZNAME:EDT
DTSTART:20190310T020000
TZOFFSETFROM:-0500
TZOFFSETTO:-0400
RDATE:20200308T020000
RDATE:20210314T020000
END:DAYLIGHT
END:VTIMEZONE
BEGIN:VEVENT
UID:4c90c920-1cdc-4088-b564-3c927f14a2ec
DTSTAMP:20260424T175130Z
DESCRIPTION:Join us for a discussion on changes that occur with age\, warni
 ng signs of a memory problem\, and what to do if someone you love is exper
 iencing symptoms of dementia. \n\nThis program is a part of our ongoing Cl
 asses for Caregivers series. All sessions are FREE\, and held the third We
 dnesday of each month from 1:00 to 3:00 pm. Respite care may be available 
 by request\; please notify us when registering to confirm availability.\n
 \n<strong>Presenter:</strong>\nAlec A. Lebedun\, Ph.D.\, Neuropsychologist
 \nDr. Alec A. Lebedun attained his Doctoral Degree in psychology from Nort
 hwestern University and then practiced for three years in the Air Force as
  a general psychologist. He currently is practicing as an independent clin
 ician\, with a significant percentage of his practice devoted to the asses
 sment and treatment of brain injured and senior clients both as outpatient
 s and in inpatient/residential settings.
DTSTART;TZID=America/New_York:20200115T130000
DTEND;TZID=America/New_York:20200115T150000
LOCATION:Linda and Lou Mazawey Education and Support Center\, 3955 Pender D
 rive\, Suite 100\, Fairfax\, VA 22030
SUMMARY:Normal Aging versus Dementia
END:VEVENT
END:VCALENDAR
