BEGIN:VCALENDAR
VERSION:2.0
PRODID:-//www.insightmcc.org//NONSGML kigkonsult.se iCalcreator 2.30.10//
CALSCALE:GREGORIAN
METHOD:PUBLISH
UID:855efa44-005f-4d93-8ace-af5b517fa42f
X-WR-CALDESC:As a professional in the aging field\, we work hard all day to
  provide loving care and support for our clients and participants. But how
  do you handle being a caregiver at home too? Join us for this professiona
 l support group to build connection and find support with others who are a
 lso caregivers at work and at home!
X-WR-RELCALID:79bb3247e45be59f99882b230a221484
X-WR-TIMEZONE:America/New_York
BEGIN:VTIMEZONE
TZID:America/New_York
BEGIN:STANDARD
TZNAME:EST
DTSTART:20191103T020000
TZOFFSETFROM:-0400
TZOFFSETTO:-0500
RDATE:20201101T020000
END:STANDARD
BEGIN:DAYLIGHT
TZNAME:EDT
DTSTART:20190310T020000
TZOFFSETFROM:-0500
TZOFFSETTO:-0400
RDATE:20200308T020000
RDATE:20210314T020000
END:DAYLIGHT
END:VTIMEZONE
BEGIN:VEVENT
UID:6168810f-1db1-4bce-b595-5c7eba261d5b
DTSTAMP:20260424T175221Z
DESCRIPTION:As a professional in the aging field\, we work hard all day to 
 provide loving care and support for our clients and participants. But how 
 do you handle being a caregiver at home too? Join us for this professional
  support group to build connection and find support with others who are al
 so caregivers at work and at home!
DTSTART;TZID=America/New_York:20200121T173000
DTEND;TZID=America/New_York:20200121T193000
LOCATION:Dogfish Head Alehouse\, Private Dining Room\, 13041 Lee Jackson Me
 m Hwy\, Fairfax\, VA 22033
SUMMARY:Professionals Caring for Parents Support Group
END:VEVENT
END:VCALENDAR
