BEGIN:VCALENDAR
VERSION:2.0
PRODID:-//www.insightmcc.org//NONSGML kigkonsult.se iCalcreator 2.30.10//
CALSCALE:GREGORIAN
METHOD:PUBLISH
UID:e6a8574d-073f-4346-9a2f-5dadbcca10b7
X-WR-CALDESC:Insight Memory Care Center offers free\, confidential\, face-t
 o-face memory screenings and educational materials to people with concerns
  about their memory or who want to check their memory now for future compa
 rison. This is a part of the Alzheimer’s Foundation of America’s National 
 Memory Screening initiative. Monthly screenings are held at our center on 
 the fourth Wednesday of each month from 1:00 pm to 3:00 pm. \n\nFeel free 
 to drop in\, or contact Lindsey for more information!\n
X-WR-RELCALID:70d2047ae57198fbd1e393b866f69f32
X-WR-TIMEZONE:America/New_York
BEGIN:VTIMEZONE
TZID:America/New_York
BEGIN:STANDARD
TZNAME:EST
DTSTART:20191103T020000
TZOFFSETFROM:-0400
TZOFFSETTO:-0500
RDATE:20201101T020000
END:STANDARD
BEGIN:DAYLIGHT
TZNAME:EDT
DTSTART:20190310T020000
TZOFFSETFROM:-0500
TZOFFSETTO:-0400
RDATE:20200308T020000
RDATE:20210314T020000
END:DAYLIGHT
END:VTIMEZONE
BEGIN:VEVENT
UID:b39d3672-7ecd-4805-9c2a-c3f14a2bbead
DTSTAMP:20260424T174449Z
DESCRIPTION:Insight Memory Care Center offers free\, confidential\, face-to
 -face memory screenings and educational materials to people with concerns 
 about their memory or who want to check their memory now for future compar
 ison. This is a part of the Alzheimer’s Foundation of America’s National M
 emory Screening initiative. Monthly screenings are held at our center on t
 he fourth Wednesday of each month from 1:00 pm to 3:00 pm. \n\nFeel free t
 o drop in\, or contact Lindsey for more information!\n
DTSTART;TZID=America/New_York:20200122T130000
DTEND;TZID=America/New_York:20200122T150000
LOCATION:Insight Memory Care Center\, 3953 Pender Drive\, Suite 100\, Fairf
 ax\, VA 22030
SUMMARY:Memory Screening
END:VEVENT
END:VCALENDAR
