BEGIN:VCALENDAR
VERSION:2.0
PRODID:-//www.insightmcc.org//NONSGML kigkonsult.se iCalcreator 2.30.10//
CALSCALE:GREGORIAN
METHOD:PUBLISH
UID:bef88b07-a3e1-4e91-b376-b405ed162202
X-WR-CALDESC:This group is specifically designed for those who have lost a 
 family member to dementia. Insight will be partnering with Capital Caring 
 to offer this group\, facilitated by Mike Ridge\, MSW\, MCSW\, Grief Couns
 elor at Capital Caring. Anyone looking for bereavement support is welcome 
 to join.\n\nFeel free to drop in\, or contact Markita for more information
 !
X-WR-RELCALID:f56c424858c23bd58b04a36981a14fdb
X-WR-TIMEZONE:America/New_York
BEGIN:VTIMEZONE
TZID:America/New_York
BEGIN:STANDARD
TZNAME:EST
DTSTART:20191103T020000
TZOFFSETFROM:-0400
TZOFFSETTO:-0500
RDATE:20201101T020000
END:STANDARD
BEGIN:DAYLIGHT
TZNAME:EDT
DTSTART:20190310T020000
TZOFFSETFROM:-0500
TZOFFSETTO:-0400
RDATE:20200308T020000
RDATE:20210314T020000
END:DAYLIGHT
END:VTIMEZONE
BEGIN:VEVENT
UID:bd3435dc-3e22-4025-b500-5c6ede05c3e2
DTSTAMP:20260424T163356Z
DESCRIPTION:This group is specifically designed for those who have lost a f
 amily member to dementia. Insight will be partnering with Capital Caring t
 o offer this group\, facilitated by Mike Ridge\, MSW\, MCSW\, Grief Counse
 lor at Capital Caring. Anyone looking for bereavement support is welcome t
 o join.\n\nFeel free to drop in\, or contact Markita for more information!
DTSTART;TZID=America/New_York:20200203T100000
DTEND;TZID=America/New_York:20200203T113000
LOCATION:Linda and Lou Mazawey Education and Support Center\, 3955 Pender D
 rive\, Suite 100\, Fairfax\, VA 22030
SUMMARY:Grief Support Group
END:VEVENT
END:VCALENDAR
