BEGIN:VCALENDAR
VERSION:2.0
PRODID:-//www.insightmcc.org//NONSGML kigkonsult.se iCalcreator 2.30.10//
CALSCALE:GREGORIAN
METHOD:PUBLISH
UID:48cdf813-6c2a-4676-b479-8a78605ca1d1
X-WR-CALDESC:This group is specifically designed for caregivers whose loved
  one has received a diagnosis of frontotemporal degeneration. Get to know 
 other families who are in a similar situation\, while also  learning pract
 ical caregiving tips and sharing personal concerns and successes.\n\nFeel 
 free to drop in\, or contact Lindsey for more information!
X-WR-RELCALID:e3684f6a44a08656c0a1bce07e33022d
X-WR-TIMEZONE:America/New_York
BEGIN:VTIMEZONE
TZID:America/New_York
BEGIN:STANDARD
TZNAME:EST
DTSTART:20191103T020000
TZOFFSETFROM:-0400
TZOFFSETTO:-0500
RDATE:20201101T020000
END:STANDARD
BEGIN:DAYLIGHT
TZNAME:EDT
DTSTART:20190310T020000
TZOFFSETFROM:-0500
TZOFFSETTO:-0400
RDATE:20200308T020000
RDATE:20210314T020000
END:DAYLIGHT
END:VTIMEZONE
BEGIN:VEVENT
UID:550c5768-355a-4d0d-bcf8-c950a41a84f7
DTSTAMP:20260424T162600Z
DESCRIPTION:This group is specifically designed for caregivers whose loved 
 one has received a diagnosis of frontotemporal degeneration. Get to know o
 ther families who are in a similar situation\, while also  learning practi
 cal caregiving tips and sharing personal concerns and successes.\n\nFeel f
 ree to drop in\, or contact Lindsey for more information!
DTSTART;TZID=America/New_York:20200204T130000
DTEND;TZID=America/New_York:20200204T143000
LOCATION:Insight Memory Care Center\, 3953 Pender Drive\, Suite 100\, Fairf
 ax\, VA 22030
SUMMARY:FTD Support Group
END:VEVENT
END:VCALENDAR
