BEGIN:VCALENDAR
VERSION:2.0
PRODID:-//www.insightmcc.org//NONSGML kigkonsult.se iCalcreator 2.30.10//
CALSCALE:GREGORIAN
METHOD:PUBLISH
UID:b8a0ebc8-a3ab-49fe-b0c7-2e0643df0092
X-WR-CALDESC:This group is specifically designed for individuals living wit
 h MCI or early stage dementia to come together and make connections\, disc
 uss struggles and fears\, and share successes. You do not need to attend o
 ur Reconnections program to attend\; all are welcome to come and share wit
 h others on a similar journey.\n\nFeel free to drop in\, or contact Rodney
  for more information!
X-WR-RELCALID:88946bfcf64f98053989a32342c188bc
X-WR-TIMEZONE:America/New_York
BEGIN:VTIMEZONE
TZID:America/New_York
BEGIN:STANDARD
TZNAME:EST
DTSTART:20191103T020000
TZOFFSETFROM:-0400
TZOFFSETTO:-0500
RDATE:20201101T020000
END:STANDARD
BEGIN:DAYLIGHT
TZNAME:EDT
DTSTART:20190310T020000
TZOFFSETFROM:-0500
TZOFFSETTO:-0400
RDATE:20200308T020000
RDATE:20210314T020000
END:DAYLIGHT
END:VTIMEZONE
BEGIN:VEVENT
UID:12564676-9c09-4537-bca2-2ba975b71406
DTSTAMP:20260424T163640Z
DESCRIPTION:This group is specifically designed for individuals living with
  MCI or early stage dementia to come together and make connections\, discu
 ss struggles and fears\, and share successes. You do not need to attend ou
 r Reconnections program to attend\; all are welcome to come and share with
  others on a similar journey.\n\nFeel free to drop in\, or contact Rodney 
 for more information!
DTSTART;TZID=America/New_York:20200204T151500
DTEND;TZID=America/New_York:20200204T161500
LOCATION:Linda and Lou Mazawey Education and Support Center\, 3955 Pender D
 rive\, Suite 100\, Fairfax\, VA 22030
SUMMARY:Making Connections at Insight (MCI) Support Group
END:VEVENT
END:VCALENDAR
