BEGIN:VCALENDAR
VERSION:2.0
PRODID:-//www.insightmcc.org//NONSGML kigkonsult.se iCalcreator 2.30.10//
CALSCALE:GREGORIAN
METHOD:PUBLISH
UID:cbc64b93-eb39-4b5f-91ea-329a91bca023
X-WR-CALDESC:The Memory Café will be offered on the first and third Wednesd
 ay of each month from 4:00 to 6:00 pm. Join us!\n\nThe café is an opportun
 ity for you and your loved one to meet with others for support\, companion
 ship\, and fun! The program will provide structured activities that you ca
 n participate in with your loved one to promote reminiscence\, cognition\,
  and engagement. Caregivers also have the option of participating in a car
 egiver support group. A light dinner will be served towards the end of the
  program to provide opportunity to share conversation and get to know othe
 rs in a safe\, supportive environment.
X-WR-RELCALID:9986dd7806b54aa732da80e9659834bf
X-WR-TIMEZONE:America/New_York
BEGIN:VTIMEZONE
TZID:America/New_York
BEGIN:STANDARD
TZNAME:EST
DTSTART:20191103T020000
TZOFFSETFROM:-0400
TZOFFSETTO:-0500
RDATE:20201101T020000
END:STANDARD
BEGIN:DAYLIGHT
TZNAME:EDT
DTSTART:20190310T020000
TZOFFSETFROM:-0500
TZOFFSETTO:-0400
RDATE:20200308T020000
RDATE:20210314T020000
END:DAYLIGHT
END:VTIMEZONE
BEGIN:VEVENT
UID:ff0086d0-ebe7-46af-8eeb-4151d3215d52
DTSTAMP:20260424T162748Z
DESCRIPTION:The Memory Café will be offered on the first and third Wednesda
 y of each month from 4:00 to 6:00 pm. Join us!\n\nThe café is an opportuni
 ty for you and your loved one to meet with others for support\, companions
 hip\, and fun! The program will provide structured activities that you can
  participate in with your loved one to promote reminiscence\, cognition\, 
 and engagement. Caregivers also have the option of participating in a care
 giver support group. A light dinner will be served towards the end of the 
 program to provide opportunity to share conversation and get to know other
 s in a safe\, supportive environment.
DTSTART;TZID=America/New_York:20200205T160000
DTEND;TZID=America/New_York:20200205T180000
LOCATION:Linda and Lou Mazawey Education and Support Center\, 3955 Pender D
 rive\, Suite 100\, Fairfax\, VA 22030
SUMMARY:Memory Cafe
END:VEVENT
END:VCALENDAR
