BEGIN:VCALENDAR
VERSION:2.0
PRODID:-//www.insightmcc.org//NONSGML kigkonsult.se iCalcreator 2.30.10//
CALSCALE:GREGORIAN
METHOD:PUBLISH
UID:f728dc6c-04c1-4475-b466-01b44a7e3e85
X-WR-CALDESC:Concerned about your memory? A memory screening is a simple an
 d safe evaluation tool that checks memory and other thinking skills. It ca
 n indicate whether an additional check up by a qualified healthcare profes
 sional is needed. Stop in for a free screening!\n\nLindsey Vajpeyi\, Direc
 tor of Education and Outreach\, will be providing free memory screenings f
 rom 10:00 am to 12:00 noon.\n\nPlease email casmera.lebron@fairfaxcounty.g
 ov to inquire about openings.
X-WR-RELCALID:131147c297e974ca2c0f12507e567137
X-WR-TIMEZONE:America/New_York
BEGIN:VTIMEZONE
TZID:America/New_York
BEGIN:STANDARD
TZNAME:EST
DTSTART:20191103T020000
TZOFFSETFROM:-0400
TZOFFSETTO:-0500
RDATE:20201101T020000
END:STANDARD
BEGIN:DAYLIGHT
TZNAME:EDT
DTSTART:20190310T020000
TZOFFSETFROM:-0500
TZOFFSETTO:-0400
RDATE:20200308T020000
RDATE:20210314T020000
END:DAYLIGHT
END:VTIMEZONE
BEGIN:VEVENT
UID:7ad977c9-d338-4492-9e05-73e97a348c9c
DTSTAMP:20260424T162549Z
DESCRIPTION:Concerned about your memory? A memory screening is a simple and
  safe evaluation tool that checks memory and other thinking skills. It can
  indicate whether an additional check up by a qualified healthcare profess
 ional is needed. Stop in for a free screening!\n\nLindsey Vajpeyi\, Direct
 or of Education and Outreach\, will be providing free memory screenings fr
 om 10:00 am to 12:00 noon.\n\nPlease email casmera.lebron@fairfaxcounty.go
 v to inquire about openings.
DTSTART;TZID=America/New_York:20200210T100000
DTEND;TZID=America/New_York:20200210T120000
LOCATION:Reston Community Center\, 2310 Colts Neck Road\, Reston\, VA 20191
SUMMARY:Memory Screenings
END:VEVENT
END:VCALENDAR
