BEGIN:VCALENDAR
VERSION:2.0
PRODID:-//www.insightmcc.org//NONSGML kigkonsult.se iCalcreator 2.30.10//
CALSCALE:GREGORIAN
METHOD:PUBLISH
UID:ff58e3d2-cd6d-47e6-a918-fd1d436061a4
X-WR-CALDESC:Learn more about age-related changes in memory and learning\, 
 and practices to keep your brain sharp! Learn what to expect\, what’s “nor
 mal\,” and when it’s time to seek a doctor’s input.\n\nLindsey Vajpeyi\, D
 irector of Education and Outreach\, will be presenting this program at Lan
 gston-Brown Senior Center.
X-WR-RELCALID:328c24cea6062202031f902821aefeea
X-WR-TIMEZONE:America/New_York
BEGIN:VTIMEZONE
TZID:America/New_York
BEGIN:STANDARD
TZNAME:EST
DTSTART:20191103T020000
TZOFFSETFROM:-0400
TZOFFSETTO:-0500
RDATE:20201101T020000
END:STANDARD
BEGIN:DAYLIGHT
TZNAME:EDT
DTSTART:20190310T020000
TZOFFSETFROM:-0500
TZOFFSETTO:-0400
RDATE:20200308T020000
RDATE:20210314T020000
END:DAYLIGHT
END:VTIMEZONE
BEGIN:VEVENT
UID:3db96603-ec76-4bc3-a630-9b044779d6e3
DTSTAMP:20260424T162809Z
DESCRIPTION:Learn more about age-related changes in memory and learning\, a
 nd practices to keep your brain sharp! Learn what to expect\, what’s “norm
 al\,” and when it’s time to seek a doctor’s input.\n\nLindsey Vajpeyi\, Di
 rector of Education and Outreach\, will be presenting this program at Lang
 ston-Brown Senior Center.
DTSTART;TZID=America/New_York:20200211T110000
DTEND;TZID=America/New_York:20200211T120000
LOCATION:Langston-Brown Senior Center\, 2121 N. Culpeper Street\, Arlington
 \, VA 22207
SUMMARY:Brain Health as You Age
END:VEVENT
END:VCALENDAR
