BEGIN:VCALENDAR
VERSION:2.0
PRODID:-//www.insightmcc.org//NONSGML kigkonsult.se iCalcreator 2.30.10//
CALSCALE:GREGORIAN
METHOD:PUBLISH
UID:c93cd5e3-1694-499a-ba4c-72dd5bd60fd2
X-WR-CALDESC:All are welcome to attend this bi-monthly group meeting for fa
 mily and friends of those with Alzheimer’s disease\, dementia\, or other m
 emory impairments. This group gives caregivers the opportunity to share ti
 ps and practical advice\, discuss frustrations and fears\, and connect wit
 h others on a similar journey.\n\nFeel free to drop in\, or contact Lindse
 y for more information!
X-WR-RELCALID:0fb1c32aacb281ae84ed8f12d4ebc0ac
X-WR-TIMEZONE:America/New_York
BEGIN:VTIMEZONE
TZID:America/New_York
BEGIN:STANDARD
TZNAME:EST
DTSTART:20191103T020000
TZOFFSETFROM:-0400
TZOFFSETTO:-0500
RDATE:20201101T020000
END:STANDARD
BEGIN:DAYLIGHT
TZNAME:EDT
DTSTART:20190310T020000
TZOFFSETFROM:-0500
TZOFFSETTO:-0400
RDATE:20200308T020000
RDATE:20210314T020000
END:DAYLIGHT
END:VTIMEZONE
BEGIN:VEVENT
UID:b4a73b98-e3ca-4b8b-b7e4-6a5a884d375c
DTSTAMP:20260424T162626Z
DESCRIPTION:All are welcome to attend this bi-monthly group meeting for fam
 ily and friends of those with Alzheimer’s disease\, dementia\, or other me
 mory impairments. This group gives caregivers the opportunity to share tip
 s and practical advice\, discuss frustrations and fears\, and connect with
  others on a similar journey.\n\nFeel free to drop in\, or contact Lindsey
  for more information!
DTSTART;TZID=America/New_York:20200212T100000
DTEND;TZID=America/New_York:20200212T113000
LOCATION:Linda and Lou Mazawey Education and Support Center\, 3955 Pender D
 rive\, Suite 100\, Fairfax\, VA 22030
SUMMARY:Community Support Group
END:VEVENT
END:VCALENDAR
