BEGIN:VCALENDAR
VERSION:2.0
PRODID:-//www.insightmcc.org//NONSGML kigkonsult.se iCalcreator 2.30.10//
CALSCALE:GREGORIAN
METHOD:PUBLISH
UID:57fa8b4b-6543-4023-ba02-d9ca27cb380a
X-WR-CALDESC:Learn more about the impact of caregiving\, while also develop
 ing strategies for self-care\, ways to deal with stress and how to maintai
 n a healthy lifestyle and take care of yourself! \n\nLindsey Vajpeyi\, Dir
 ector of Education and Outreach\, will be presenting this program at Chest
 erbrook Residences.
X-WR-RELCALID:624b164b70d7b56bae68cb9e47f36acc
X-WR-TIMEZONE:America/New_York
BEGIN:VTIMEZONE
TZID:America/New_York
BEGIN:STANDARD
TZNAME:EST
DTSTART:20191103T020000
TZOFFSETFROM:-0400
TZOFFSETTO:-0500
RDATE:20201101T020000
END:STANDARD
BEGIN:DAYLIGHT
TZNAME:EDT
DTSTART:20190310T020000
TZOFFSETFROM:-0500
TZOFFSETTO:-0400
RDATE:20200308T020000
RDATE:20210314T020000
END:DAYLIGHT
END:VTIMEZONE
BEGIN:VEVENT
UID:cbad2b16-7d07-468f-aae9-504beca4d710
DTSTAMP:20260424T163034Z
DESCRIPTION:Learn more about the impact of caregiving\, while also developi
 ng strategies for self-care\, ways to deal with stress and how to maintain
  a healthy lifestyle and take care of yourself! \n\nLindsey Vajpeyi\, Dire
 ctor of Education and Outreach\, will be presenting this program at Cheste
 rbrook Residences.
DTSTART;TZID=America/New_York:20200213T190000
DTEND;TZID=America/New_York:20200213T201500
LOCATION:Chesterbrook Residences\, 2030 Westmoreland St.\, Falls Church\, V
 A 22043
SUMMARY:How Not to Age with Your Aging Parents
END:VEVENT
END:VCALENDAR
