BEGIN:VCALENDAR
VERSION:2.0
PRODID:-//www.insightmcc.org//NONSGML kigkonsult.se iCalcreator 2.30.10//
CALSCALE:GREGORIAN
METHOD:PUBLISH
UID:c1ee007a-d26b-4c72-a463-e69e040afd6b
X-WR-CALDESC:As an Insight family member\, you are cordially invited to our
  Valentine’s dinner! Please bring a special someone\, whether they are a s
 pouse\, child\, or caregiver\, to enjoy and share the love!\n\nShare your 
 Photos!\nAs a part of the festivities\, please also drop off or email a fa
 vorite wedding or cute couple photo to Michelle!\n\nMany Thanks to Care Wi
 th Love for sponsoring this great event for our families!
X-WR-RELCALID:53b4c72b6d5c3442585e13e61e0b3b74
X-WR-TIMEZONE:America/New_York
BEGIN:VTIMEZONE
TZID:America/New_York
BEGIN:STANDARD
TZNAME:EST
DTSTART:20191103T020000
TZOFFSETFROM:-0400
TZOFFSETTO:-0500
RDATE:20201101T020000
END:STANDARD
BEGIN:DAYLIGHT
TZNAME:EDT
DTSTART:20190310T020000
TZOFFSETFROM:-0500
TZOFFSETTO:-0400
RDATE:20200308T020000
RDATE:20210314T020000
END:DAYLIGHT
END:VTIMEZONE
BEGIN:VEVENT
UID:aecf92ab-7424-4e64-9b6e-4175d0271f4e
DTSTAMP:20260424T164319Z
DESCRIPTION:As an Insight family member\, you are cordially invited to our 
 Valentine’s dinner! Please bring a special someone\, whether they are a sp
 ouse\, child\, or caregiver\, to enjoy and share the love!\n\nShare your P
 hotos!\nAs a part of the festivities\, please also drop off or email a fav
 orite wedding or cute couple photo to Michelle!\n\nMany Thanks to Care Wit
 h Love for sponsoring this great event for our families!
DTSTART;TZID=America/New_York:20200213T163000
DTEND;TZID=America/New_York:20200213T183000
LOCATION:Linda and Lou Mazawey Education
SUMMARY:Share the Love Family Dinner
END:VEVENT
END:VCALENDAR
