BEGIN:VCALENDAR
VERSION:2.0
PRODID:-//www.insightmcc.org//NONSGML kigkonsult.se iCalcreator 2.30.10//
CALSCALE:GREGORIAN
METHOD:PUBLISH
UID:66f88589-00a6-4bcb-9132-84b6ed30a708
X-WR-CALDESC:The Parkinson Social Network was inspired by the Memory Café c
 oncept – a social gathering in a safe and supportive environment for peopl
 e living with memory loss as well as their friends and family.\n\nThere ar
 e several Parkinson Social Network meetings throughout Northern Virginia t
 hat provide relaxed and supportive environments for people living with Par
 kinsons\, as well as other related movement disorders such as Lewy Body De
 mentia\, together with their friends and family. At the meeting\, you’ll h
 ave the opportunity to relax and chat with old friends\, and meet new ones
 . Enjoy a cup of coffee and delicious food – you’re welcome to bring some 
 munchies to share! \n\nThe Parkinson Social Network Fairfax meets monthly 
 at Insight on the third Wednesday of the month. There is a different theme
  each month\, largely touching on topics that affect our lives in ways oth
 er than as a patient or caregiver.
X-WR-RELCALID:692e10e1044b37f15d2492e3582f3fc0
X-WR-TIMEZONE:America/New_York
BEGIN:VTIMEZONE
TZID:America/New_York
BEGIN:STANDARD
TZNAME:EST
DTSTART:20191103T020000
TZOFFSETFROM:-0400
TZOFFSETTO:-0500
RDATE:20201101T020000
END:STANDARD
BEGIN:DAYLIGHT
TZNAME:EDT
DTSTART:20190310T020000
TZOFFSETFROM:-0500
TZOFFSETTO:-0400
RDATE:20200308T020000
RDATE:20210314T020000
END:DAYLIGHT
END:VTIMEZONE
BEGIN:VEVENT
UID:b1b8fa5f-7633-4c0f-99b5-29c39d3be0a7
DTSTAMP:20260424T163218Z
DESCRIPTION:The Parkinson Social Network was inspired by the Memory Café co
 ncept – a social gathering in a safe and supportive environment for people
  living with memory loss as well as their friends and family.\n\nThere are
  several Parkinson Social Network meetings throughout Northern Virginia th
 at provide relaxed and supportive environments for people living with Park
 insons\, as well as other related movement disorders such as Lewy Body Dem
 entia\, together with their friends and family. At the meeting\, you’ll ha
 ve the opportunity to relax and chat with old friends\, and meet new ones.
  Enjoy a cup of coffee and delicious food – you’re welcome to bring some m
 unchies to share! \n\nThe Parkinson Social Network Fairfax meets monthly a
 t Insight on the third Wednesday of the month. There is a different theme 
 each month\, largely touching on topics that affect our lives in ways othe
 r than as a patient or caregiver.
DTSTART;TZID=America/New_York:20200219T100000
DTEND;TZID=America/New_York:20200219T120000
LOCATION:Linda and Lou Mazawey Education and Support Center\, 3955 Pender D
 rive\, Suite 100\, Fairfax\, VA 22030
SUMMARY:Parkinson Social Network
END:VEVENT
END:VCALENDAR
