BEGIN:VCALENDAR
VERSION:2.0
PRODID:-//www.insightmcc.org//NONSGML kigkonsult.se iCalcreator 2.30.10//
CALSCALE:GREGORIAN
METHOD:PUBLISH
UID:13837c03-6532-4862-a805-e804a05b0eed
X-WR-CALDESC:Join us for our monthly brown bag lunch meeting. Bring your lu
 nch and catch up with Insight friends while discussing current ways to hel
 p out!\n\n<strong>About Friends of Insight:</strong>\nFriends of Insight s
 upports Insight through development\, volunteerism\, and advocacy to maint
 ain and build relationships through social activities. Friends of Insight 
 members are families that have or had a loved one with a diagnosis of deme
 ntia and have a connection to Insight Memory Care Center. Their connection
  could be through attending any of Insight’s programs and services. We wel
 come you to join us!
X-WR-RELCALID:07acdf8483e4548cf1c872d21cf3ffb3
X-WR-TIMEZONE:America/New_York
BEGIN:VTIMEZONE
TZID:America/New_York
BEGIN:STANDARD
TZNAME:EST
DTSTART:20191103T020000
TZOFFSETFROM:-0400
TZOFFSETTO:-0500
RDATE:20201101T020000
END:STANDARD
BEGIN:DAYLIGHT
TZNAME:EDT
DTSTART:20190310T020000
TZOFFSETFROM:-0500
TZOFFSETTO:-0400
RDATE:20200308T020000
RDATE:20210314T020000
END:DAYLIGHT
END:VTIMEZONE
BEGIN:VEVENT
UID:70389e03-a34e-422f-8de1-ebb1484c3f0d
DTSTAMP:20260424T164656Z
DESCRIPTION:Join us for our monthly brown bag lunch meeting. Bring your lun
 ch and catch up with Insight friends while discussing current ways to help
  out!\n\n<strong>About Friends of Insight:</strong>\nFriends of Insight su
 pports Insight through development\, volunteerism\, and advocacy to mainta
 in and build relationships through social activities. Friends of Insight m
 embers are families that have or had a loved one with a diagnosis of demen
 tia and have a connection to Insight Memory Care Center. Their connection 
 could be through attending any of Insight’s programs and services. We welc
 ome you to join us!
DTSTART;TZID=America/New_York:20200219T113000
DTEND;TZID=America/New_York:20200219T133000
LOCATION:3953 Pender Drive\, Suite 100\, Fairfax\, VA 22030
SUMMARY:Friends of Insight Meeting
END:VEVENT
END:VCALENDAR
