BEGIN:VCALENDAR
VERSION:2.0
PRODID:-//www.insightmcc.org//NONSGML kigkonsult.se iCalcreator 2.30.10//
CALSCALE:GREGORIAN
METHOD:PUBLISH
UID:ecbf01b5-8ad1-4c68-91d3-c79d5298d7f5
X-WR-CALDESC:We will discuss common dementias and general stages to help yo
 u anticipate future changes. Learn about the treatment of symptoms\, curre
 nt research\, and clinical trials available. \n\nThis program is a part of
  our ongoing Classes for Caregivers series. All sessions are FREE\, and he
 ld the third Wednesday of each month from 1:00 to 3:00 pm. Respite care ma
 y be available by request\; please notify us when registering to confirm a
 vailability.\n\n<strong>Presenter:</strong>\nMelanie Chadwick\, MSN\, ANP-
 BC\, GNP-BC\nMelanie Chadwick has over 15 years of emergency and critical 
 care nursing experience. She currently works as a geriatric nurse practiti
 oner for the Memory Disorders Program at Georgetown University\, and serve
 s as sub-investigator in clinical trials of potential new treatments for A
 lzheimer’s disease. Additionally\, Melanie serves as a clinician specializ
 ing in the assessment\, diagnosis\, and management of patients with dement
 ia and related disorders.
X-WR-RELCALID:a860e7ae1535ddf25f45562d08650660
X-WR-TIMEZONE:America/New_York
BEGIN:VTIMEZONE
TZID:America/New_York
BEGIN:STANDARD
TZNAME:EST
DTSTART:20191103T020000
TZOFFSETFROM:-0400
TZOFFSETTO:-0500
RDATE:20201101T020000
END:STANDARD
BEGIN:DAYLIGHT
TZNAME:EDT
DTSTART:20190310T020000
TZOFFSETFROM:-0500
TZOFFSETTO:-0400
RDATE:20200308T020000
RDATE:20210314T020000
END:DAYLIGHT
END:VTIMEZONE
BEGIN:VEVENT
UID:2cf67ba0-60d0-413a-897c-38181eab2c58
DTSTAMP:20260424T163716Z
DESCRIPTION:We will discuss common dementias and general stages to help you
  anticipate future changes. Learn about the treatment of symptoms\, curren
 t research\, and clinical trials available. \n\nThis program is a part of 
 our ongoing Classes for Caregivers series. All sessions are FREE\, and hel
 d the third Wednesday of each month from 1:00 to 3:00 pm. Respite care may
  be available by request\; please notify us when registering to confirm av
 ailability.\n\n<strong>Presenter:</strong>\nMelanie Chadwick\, MSN\, ANP-B
 C\, GNP-BC\nMelanie Chadwick has over 15 years of emergency and critical c
 are nursing experience. She currently works as a geriatric nurse practitio
 ner for the Memory Disorders Program at Georgetown University\, and serves
  as sub-investigator in clinical trials of potential new treatments for Al
 zheimer’s disease. Additionally\, Melanie serves as a clinician specializi
 ng in the assessment\, diagnosis\, and management of patients with dementi
 a and related disorders.
DTSTART;TZID=America/New_York:20200219T130000
DTEND;TZID=America/New_York:20200219T150000
LOCATION:Linda and Lou Mazawey Education and Support Center\, 3955 Pender D
 rive\, Suite 100\, Fairfax\, VA 22030
SUMMARY:The Dementias: What's on the Treatment Horizon?
END:VEVENT
END:VCALENDAR
