BEGIN:VCALENDAR
VERSION:2.0
PRODID:-//www.insightmcc.org//NONSGML kigkonsult.se iCalcreator 2.30.10//
CALSCALE:GREGORIAN
METHOD:PUBLISH
UID:7f743370-8ce9-4d10-b08c-39a9745853c1
X-WR-CALDESC:<em>New to Insight Memory Care Center? Want to learn more?</em
 >\nEvents are offered on the 3rd Thursday of the month from 9:00 am to 10:
 30 am. Come and see our programs in action\, meet the staff\, and learn mo
 re about resources available.\n\n9:00-9:30 am  |  Meet and Greet\n9:30-10:
 30 am  |  Tour of Insight Programs in Action\n\n<strong>RSVP:</strong>\nPl
 ease contact Robin McGlothin at <a href='mailto:robin.mcglothin@insightmcc
 .org'>robin.mcglothin@insightmcc.org</a> or 703-204-4664.
X-WR-RELCALID:3a2b8d2c459aed27e70f1867d5fbe7ae
X-WR-TIMEZONE:America/New_York
BEGIN:VTIMEZONE
TZID:America/New_York
BEGIN:STANDARD
TZNAME:EST
DTSTART:20191103T020000
TZOFFSETFROM:-0400
TZOFFSETTO:-0500
RDATE:20201101T020000
END:STANDARD
BEGIN:DAYLIGHT
TZNAME:EDT
DTSTART:20190310T020000
TZOFFSETFROM:-0500
TZOFFSETTO:-0400
RDATE:20200308T020000
RDATE:20210314T020000
END:DAYLIGHT
END:VTIMEZONE
BEGIN:VEVENT
UID:390d7fce-c638-4a30-97b2-8cc1ae18e5de
DTSTAMP:20260424T162906Z
DESCRIPTION:<em>New to Insight Memory Care Center? Want to learn more?</em>
 \nEvents are offered on the 3rd Thursday of the month from 9:00 am to 10:3
 0 am. Come and see our programs in action\, meet the staff\, and learn mor
 e about resources available.\n\n9:00-9:30 am  |  Meet and Greet\n9:30-10:3
 0 am  |  Tour of Insight Programs in Action\n\n<strong>RSVP:</strong>\nPle
 ase contact Robin McGlothin at <a href='mailto:robin.mcglothin@insightmcc.
 org'>robin.mcglothin@insightmcc.org</a> or 703-204-4664.
DTSTART;TZID=America/New_York:20200220T090000
DTEND;TZID=America/New_York:20200220T103000
LOCATION:Linda and Lou Mazawey Education and Support Center\, 3955 Pender D
 rive\, Suite 100\, Fairfax\, VA 22030
SUMMARY:Insight in Action
END:VEVENT
END:VCALENDAR
