BEGIN:VCALENDAR
VERSION:2.0
PRODID:-//www.insightmcc.org//NONSGML kigkonsult.se iCalcreator 2.30.10//
CALSCALE:GREGORIAN
METHOD:PUBLISH
UID:a8ca46b9-67b6-4ffb-8b64-7c155fd7844a
X-WR-CALDESC:All are welcome to attend this bi-monthly group meeting for fa
 mily and friends of those with Alzheimer’s disease\, dementia\, or other m
 emory impairments. This group gives caregivers the opportunity to share ti
 ps and practical advice\, discuss frustrations and fears\, and connect wit
 h others on a similar journey.\n\nFeel free to drop in\, or contact Lindse
 y for more information!
X-WR-RELCALID:fd3d553b83a926f4cb10412526cec63c
X-WR-TIMEZONE:America/New_York
BEGIN:VTIMEZONE
TZID:America/New_York
BEGIN:STANDARD
TZNAME:EST
DTSTART:20191103T020000
TZOFFSETFROM:-0400
TZOFFSETTO:-0500
RDATE:20201101T020000
END:STANDARD
BEGIN:DAYLIGHT
TZNAME:EDT
DTSTART:20190310T020000
TZOFFSETFROM:-0500
TZOFFSETTO:-0400
RDATE:20200308T020000
RDATE:20210314T020000
END:DAYLIGHT
END:VTIMEZONE
BEGIN:VEVENT
UID:31027af1-863a-4b34-b6de-360486a3a19c
DTSTAMP:20260424T162611Z
DESCRIPTION:All are welcome to attend this bi-monthly group meeting for fam
 ily and friends of those with Alzheimer’s disease\, dementia\, or other me
 mory impairments. This group gives caregivers the opportunity to share tip
 s and practical advice\, discuss frustrations and fears\, and connect with
  others on a similar journey.\n\nFeel free to drop in\, or contact Lindsey
  for more information!
DTSTART;TZID=America/New_York:20200226T100000
DTEND;TZID=America/New_York:20200226T113000
LOCATION:Linda and Lou Mazawey Education and Support Center\, 3955 Pender D
 rive\, Suite 100\, Fairfax\, VA 22030
SUMMARY:Community Support Group
END:VEVENT
END:VCALENDAR
