BEGIN:VCALENDAR
VERSION:2.0
PRODID:-//www.insightmcc.org//NONSGML kigkonsult.se iCalcreator 2.30.10//
CALSCALE:GREGORIAN
METHOD:PUBLISH
UID:15da8aec-4649-41e9-9e84-9382beeb04ce
X-WR-CALDESC:Join us for our monthly brown bag lunch meeting on the second 
 Wednesday of each month. Bring your lunch and catch up with Insight friend
 s while discussing current ways to help out!\n\n<strong>About Friends of I
 nsight:</strong>\nFriends of Insight supports Insight through development\
 , volunteerism\, and advocacy to maintain and build relationships through 
 social activities. Friends of Insight members are families that have or ha
 d a loved one with a diagnosis of dementia and have a connection to Insigh
 t Memory Care Center. Their connection could be through attending any of I
 nsight’s programs and services. We welcome you to join us!
X-WR-RELCALID:008073dc78d8b357a5667f3d34d50453
X-WR-TIMEZONE:America/New_York
BEGIN:VTIMEZONE
TZID:America/New_York
BEGIN:STANDARD
TZNAME:EST
DTSTART:20191103T020000
TZOFFSETFROM:-0400
TZOFFSETTO:-0500
RDATE:20201101T020000
END:STANDARD
BEGIN:DAYLIGHT
TZNAME:EDT
DTSTART:20200308T020000
TZOFFSETFROM:-0500
TZOFFSETTO:-0400
RDATE:20210314T020000
END:DAYLIGHT
END:VTIMEZONE
BEGIN:VEVENT
UID:dca98b17-edc3-4f04-b696-efe0c74a8da4
DTSTAMP:20260424T151019Z
DESCRIPTION:Join us for our monthly brown bag lunch meeting on the second W
 ednesday of each month. Bring your lunch and catch up with Insight friends
  while discussing current ways to help out!\n\n<strong>About Friends of In
 sight:</strong>\nFriends of Insight supports Insight through development\,
  volunteerism\, and advocacy to maintain and build relationships through s
 ocial activities. Friends of Insight members are families that have or had
  a loved one with a diagnosis of dementia and have a connection to Insight
  Memory Care Center. Their connection could be through attending any of In
 sight’s programs and services. We welcome you to join us!
DTSTART;TZID=America/New_York:20200311T120000
DTEND;TZID=America/New_York:20200311T140000
LOCATION:3953 Pender Drive\, Suite 100\, Fairfax\, VA 22030
SUMMARY:Friends of Insight Meeting
END:VEVENT
END:VCALENDAR
