BEGIN:VCALENDAR
VERSION:2.0
PRODID:-//www.insightmcc.org//NONSGML kigkonsult.se iCalcreator 2.30.10//
CALSCALE:GREGORIAN
METHOD:PUBLISH
UID:78ed34b9-c9fc-4fd1-b568-a89639eee994
X-WR-CALDESC:Do you have a friend or family member with Lewy Body Dementia?
  Join us for this group to learn more about this specific type of dementia
 \, and share with others who also have loved ones with the disease.\n\nFee
 l free to drop in\, or contact Lindsey for more information!
X-WR-RELCALID:342024e1b0b94172b8568237ad693bdb
X-WR-TIMEZONE:America/New_York
BEGIN:VTIMEZONE
TZID:America/New_York
BEGIN:STANDARD
TZNAME:EST
DTSTART:20191103T020000
TZOFFSETFROM:-0400
TZOFFSETTO:-0500
RDATE:20201101T020000
END:STANDARD
BEGIN:DAYLIGHT
TZNAME:EDT
DTSTART:20200308T020000
TZOFFSETFROM:-0500
TZOFFSETTO:-0400
RDATE:20210314T020000
END:DAYLIGHT
END:VTIMEZONE
BEGIN:VEVENT
UID:06988d51-943e-4cb6-b420-daf4ebe9512a
DTSTAMP:20260424T151745Z
DESCRIPTION:Do you have a friend or family member with Lewy Body Dementia? 
 Join us for this group to learn more about this specific type of dementia\
 , and share with others who also have loved ones with the disease.\n\nFeel
  free to drop in\, or contact Lindsey for more information!
DTSTART;TZID=America/New_York:20200313T130000
DTEND;TZID=America/New_York:20200313T143000
LOCATION:Linda and Lou Mazawey Education and Support Center\, 3955 Pender D
 rive\, Suite 100\, Fairfax\, VA 22030
SUMMARY:Lewy Body Dementia Support Group
END:VEVENT
END:VCALENDAR
