BEGIN:VCALENDAR
VERSION:2.0
PRODID:-//www.insightmcc.org//NONSGML kigkonsult.se iCalcreator 2.30.10//
CALSCALE:GREGORIAN
METHOD:PUBLISH
UID:498adc9a-2aeb-454a-8cd1-7aa1e5eb13fe
X-WR-CALDESC:Insight has cancelled many of our public events in effort to k
 eep our participants and the wider community safe and healthy. This sessio
 n has been cancelled\, please join us for a date later in the spring!\n\nT
 he Parkinson Social Network was inspired by the Memory Café concept – a so
 cial gathering in a safe and supportive environment for people living with
  memory loss as well as their friends and family.\n\nThere are several Par
 kinson Social Network meetings throughout Northern Virginia that provide r
 elaxed and supportive environments for people living with Parkinsons\, as 
 well as other related movement disorders such as Lewy Body Dementia\, toge
 ther with their friends and family. At the meeting\, you’ll have the oppor
 tunity to relax and chat with old friends\, and meet new ones. Enjoy a cup
  of coffee and delicious food – you’re welcome to bring some munchies to s
 hare! \n\nThe Parkinson Social Network Fairfax meets monthly at Insight on
  the third Wednesday of the month. There is a different theme each month\,
  largely touching on topics that affect our lives in ways other than as a 
 patient or caregiver.
X-WR-RELCALID:5d29b3326d84de8e6be7f5784f716dcd
X-WR-TIMEZONE:America/New_York
BEGIN:VTIMEZONE
TZID:America/New_York
BEGIN:STANDARD
TZNAME:EST
DTSTART:20191103T020000
TZOFFSETFROM:-0400
TZOFFSETTO:-0500
RDATE:20201101T020000
END:STANDARD
BEGIN:DAYLIGHT
TZNAME:EDT
DTSTART:20200308T020000
TZOFFSETFROM:-0500
TZOFFSETTO:-0400
RDATE:20210314T020000
END:DAYLIGHT
END:VTIMEZONE
BEGIN:VEVENT
UID:d4aa8936-96d2-4f2d-8ea9-29894228811c
DTSTAMP:20260424T150730Z
DESCRIPTION:Insight has cancelled many of our public events in effort to ke
 ep our participants and the wider community safe and healthy. This session
  has been cancelled\, please join us for a date later in the spring!\n\nTh
 e Parkinson Social Network was inspired by the Memory Café concept – a soc
 ial gathering in a safe and supportive environment for people living with 
 memory loss as well as their friends and family.\n\nThere are several Park
 inson Social Network meetings throughout Northern Virginia that provide re
 laxed and supportive environments for people living with Parkinsons\, as w
 ell as other related movement disorders such as Lewy Body Dementia\, toget
 her with their friends and family. At the meeting\, you’ll have the opport
 unity to relax and chat with old friends\, and meet new ones. Enjoy a cup 
 of coffee and delicious food – you’re welcome to bring some munchies to sh
 are! \n\nThe Parkinson Social Network Fairfax meets monthly at Insight on 
 the third Wednesday of the month. There is a different theme each month\, 
 largely touching on topics that affect our lives in ways other than as a p
 atient or caregiver.
DTSTART;TZID=America/New_York:20200318T100000
DTEND;TZID=America/New_York:20200318T120000
LOCATION:Linda and Lou Mazawey Education and Support Center\, 3955 Pender D
 rive\, Suite 100\, Fairfax\, VA 22030
SUMMARY:Parkinson Social Network - CANCELLED
END:VEVENT
END:VCALENDAR
