BEGIN:VCALENDAR
VERSION:2.0
PRODID:-//www.insightmcc.org//NONSGML kigkonsult.se iCalcreator 2.30.10//
CALSCALE:GREGORIAN
METHOD:PUBLISH
UID:e0ec81b2-c6c7-4b57-9e03-bca4e35d333d
X-WR-CALDESC:Insight has cancelled our public events in effort to keep our 
 participants and the wider community safe and healthy. This session has be
 en cancelled\, please join us for a date later in the spring!\n\nThe Memor
 y Café will be offered on the first and third Wednesday of each month from
  4:00 to 6:00 pm. Join us!\n\nThe café is an opportunity for you and your 
 loved one to meet with others for support\, companionship\, and fun! The p
 rogram will provide structured activities that you can participate in with
  your loved one to promote reminiscence\, cognition\, and engagement. Care
 givers also have the option of participating in a caregiver support group.
  A light dinner will be served towards the end of the program to provide o
 pportunity to share conversation and get to know others in a safe\, suppor
 tive environment.
X-WR-RELCALID:7f0885be6627a2d53f0e45c33c7b5860
X-WR-TIMEZONE:America/New_York
BEGIN:VTIMEZONE
TZID:America/New_York
BEGIN:STANDARD
TZNAME:EST
DTSTART:20191103T020000
TZOFFSETFROM:-0400
TZOFFSETTO:-0500
RDATE:20201101T020000
END:STANDARD
BEGIN:DAYLIGHT
TZNAME:EDT
DTSTART:20200308T020000
TZOFFSETFROM:-0500
TZOFFSETTO:-0400
RDATE:20210314T020000
END:DAYLIGHT
END:VTIMEZONE
BEGIN:VEVENT
UID:835eb88f-ee9e-4197-b233-67fa1b304fe2
DTSTAMP:20260424T151150Z
DESCRIPTION:Insight has cancelled our public events in effort to keep our p
 articipants and the wider community safe and healthy. This session has bee
 n cancelled\, please join us for a date later in the spring!\n\nThe Memory
  Café will be offered on the first and third Wednesday of each month from 
 4:00 to 6:00 pm. Join us!\n\nThe café is an opportunity for you and your l
 oved one to meet with others for support\, companionship\, and fun! The pr
 ogram will provide structured activities that you can participate in with 
 your loved one to promote reminiscence\, cognition\, and engagement. Careg
 ivers also have the option of participating in a caregiver support group. 
 A light dinner will be served towards the end of the program to provide op
 portunity to share conversation and get to know others in a safe\, support
 ive environment.
DTSTART;TZID=America/New_York:20200318T160000
DTEND;TZID=America/New_York:20200318T180000
LOCATION:Linda and Lou Mazawey Education and Support Center\, 3955 Pender D
 rive\, Suite 100\, Fairfax\, VA 22030
SUMMARY:Memory Cafe - CANCELLED
END:VEVENT
END:VCALENDAR
