BEGIN:VCALENDAR
VERSION:2.0
PRODID:-//www.insightmcc.org//NONSGML kigkonsult.se iCalcreator 2.30.10//
CALSCALE:GREGORIAN
METHOD:PUBLISH
UID:5bdc7649-a7a1-408e-969d-32f36f6f9088
X-WR-CALDESC:Insight has cancelled many of our public events in effort to k
 eep our participants and the wider community safe and healthy. This sessio
 n has been cancelled\, please join us for a date later in the spring!\n\n<
 em>New to Insight Memory Care Center? Want to learn more?</em>\nEvents are
  offered on the 3rd Thursday of the month from 9:00 am to 10:30 am. Come a
 nd see our programs in action\, meet the staff\, and learn more about reso
 urces available.\n\n9:00-9:30 am  |  Meet and Greet\n9:30-10:30 am  |  Tou
 r of Insight Programs in Action\n\n<strong>RSVP:</strong>\nPlease contact 
 Robin McGlothin at <a href='mailto:robin.mcglothin@insightmcc.org'>robin.m
 cglothin@insightmcc.org</a> or 703-204-4664.
X-WR-RELCALID:30059d5ab0512fe1aa031a6d3087194e
X-WR-TIMEZONE:America/New_York
BEGIN:VTIMEZONE
TZID:America/New_York
BEGIN:STANDARD
TZNAME:EST
DTSTART:20191103T020000
TZOFFSETFROM:-0400
TZOFFSETTO:-0500
RDATE:20201101T020000
END:STANDARD
BEGIN:DAYLIGHT
TZNAME:EDT
DTSTART:20200308T020000
TZOFFSETFROM:-0500
TZOFFSETTO:-0400
RDATE:20210314T020000
END:DAYLIGHT
END:VTIMEZONE
BEGIN:VEVENT
UID:3c517332-cff8-4512-8e17-6f2f58e96ee3
DTSTAMP:20260424T151656Z
DESCRIPTION:Insight has cancelled many of our public events in effort to ke
 ep our participants and the wider community safe and healthy. This session
  has been cancelled\, please join us for a date later in the spring!\n\n<e
 m>New to Insight Memory Care Center? Want to learn more?</em>\nEvents are 
 offered on the 3rd Thursday of the month from 9:00 am to 10:30 am. Come an
 d see our programs in action\, meet the staff\, and learn more about resou
 rces available.\n\n9:00-9:30 am  |  Meet and Greet\n9:30-10:30 am  |  Tour
  of Insight Programs in Action\n\n<strong>RSVP:</strong>\nPlease contact R
 obin McGlothin at <a href='mailto:robin.mcglothin@insightmcc.org'>robin.mc
 glothin@insightmcc.org</a> or 703-204-4664.
DTSTART;TZID=America/New_York:20200319T090000
DTEND;TZID=America/New_York:20200319T103000
LOCATION:Linda and Lou Mazawey Education and Support Center\, 3955 Pender D
 rive\, Suite 100\, Fairfax\, VA 22030
SUMMARY:Insight in Action - CANCELLED
END:VEVENT
END:VCALENDAR
