BEGIN:VCALENDAR
VERSION:2.0
PRODID:-//www.insightmcc.org//NONSGML kigkonsult.se iCalcreator 2.30.10//
CALSCALE:GREGORIAN
METHOD:PUBLISH
UID:c0f79cba-b1b3-4bb9-bb0b-ed5cdd27ad44
X-WR-CALDESC:Insight has cancelled our public events in effort to keep our 
 participants and the wider community safe and healthy. This session has be
 en cancelled\, please join us for a date later in the spring!\n\nAll are w
 elcome to attend this bi-monthly group meeting for family and friends of t
 hose with Alzheimer’s disease\, dementia\, or other memory impairments. Th
 is group gives caregivers the opportunity to share tips and practical advi
 ce\, discuss frustrations and fears\, and connect with others on a similar
  journey.\n\nFeel free to drop in\, or contact Lindsey for more informatio
 n!
X-WR-RELCALID:67d398eb15524fd38c95c2a13936aae7
X-WR-TIMEZONE:America/New_York
BEGIN:VTIMEZONE
TZID:America/New_York
BEGIN:STANDARD
TZNAME:EST
DTSTART:20191103T020000
TZOFFSETFROM:-0400
TZOFFSETTO:-0500
RDATE:20201101T020000
END:STANDARD
BEGIN:DAYLIGHT
TZNAME:EDT
DTSTART:20200308T020000
TZOFFSETFROM:-0500
TZOFFSETTO:-0400
RDATE:20210314T020000
END:DAYLIGHT
END:VTIMEZONE
BEGIN:VEVENT
UID:ea7dafd5-b9c3-4c79-96e4-c0c130a80c14
DTSTAMP:20260424T151513Z
DESCRIPTION:Insight has cancelled our public events in effort to keep our p
 articipants and the wider community safe and healthy. This session has bee
 n cancelled\, please join us for a date later in the spring!\n\nAll are we
 lcome to attend this bi-monthly group meeting for family and friends of th
 ose with Alzheimer’s disease\, dementia\, or other memory impairments. Thi
 s group gives caregivers the opportunity to share tips and practical advic
 e\, discuss frustrations and fears\, and connect with others on a similar 
 journey.\n\nFeel free to drop in\, or contact Lindsey for more information
 !
DTSTART;TZID=America/New_York:20200325T100000
DTEND;TZID=America/New_York:20200325T113000
LOCATION:Linda and Lou Mazawey Education and Support Center\, 3955 Pender D
 rive\, Suite 100\, Fairfax\, VA 22030
SUMMARY:Community Support Group - CANCELLED
END:VEVENT
END:VCALENDAR
