BEGIN:VCALENDAR
VERSION:2.0
PRODID:-//www.insightmcc.org//NONSGML kigkonsult.se iCalcreator 2.30.10//
CALSCALE:GREGORIAN
METHOD:PUBLISH
UID:159d4033-0745-43b4-919d-5c94e7c7d308
X-WR-CALDESC:Insight has cancelled our public events in effort to keep our 
 participants and the wider community safe and healthy. This session has be
 en cancelled\, please join us for a date later in the spring!\n\nInsight M
 emory Care Center offers free\, confidential\, face-to-face memory screeni
 ngs and educational materials to people with concerns about their memory o
 r who want to check their memory now for future comparison. This is a part
  of the Alzheimer’s Foundation of America’s National Memory Screening init
 iative. Monthly screenings are held at our center on the fourth Wednesday 
 of each month from 1:00 pm to 3:00 pm. \n\nFeel free to drop in\, or conta
 ct Lindsey for more information!\n
X-WR-RELCALID:da2fe31982ed6ce6ab7f158defdef60d
X-WR-TIMEZONE:America/New_York
BEGIN:VTIMEZONE
TZID:America/New_York
BEGIN:STANDARD
TZNAME:EST
DTSTART:20191103T020000
TZOFFSETFROM:-0400
TZOFFSETTO:-0500
RDATE:20201101T020000
END:STANDARD
BEGIN:DAYLIGHT
TZNAME:EDT
DTSTART:20200308T020000
TZOFFSETFROM:-0500
TZOFFSETTO:-0400
RDATE:20210314T020000
END:DAYLIGHT
END:VTIMEZONE
BEGIN:VEVENT
UID:a7e012ea-ba60-46c5-bbf6-b27eafbc243b
DTSTAMP:20260424T145837Z
DESCRIPTION:Insight has cancelled our public events in effort to keep our p
 articipants and the wider community safe and healthy. This session has bee
 n cancelled\, please join us for a date later in the spring!\n\nInsight Me
 mory Care Center offers free\, confidential\, face-to-face memory screenin
 gs and educational materials to people with concerns about their memory or
  who want to check their memory now for future comparison. This is a part 
 of the Alzheimer’s Foundation of America’s National Memory Screening initi
 ative. Monthly screenings are held at our center on the fourth Wednesday o
 f each month from 1:00 pm to 3:00 pm. \n\nFeel free to drop in\, or contac
 t Lindsey for more information!\n
DTSTART;TZID=America/New_York:20200325T130000
DTEND;TZID=America/New_York:20200325T150000
LOCATION:Insight Memory Care Center\, 3953 Pender Drive\, Suite 100\, Fairf
 ax\, VA 22030
SUMMARY:Memory Screening -CANCELLED
END:VEVENT
END:VCALENDAR
