BEGIN:VCALENDAR
VERSION:2.0
PRODID:-//www.insightmcc.org//NONSGML kigkonsult.se iCalcreator 2.30.10//
CALSCALE:GREGORIAN
METHOD:PUBLISH
UID:16334d65-4cac-45f1-97fa-bb3e84575bc5
X-WR-CALDESC:We're going virtual! Insight families and friends of those wit
 h Alzheimer’s disease\, dementia\, or other memory impairments are all wel
 come to join us. This group gives caregivers the opportunity to share tips
  and practical advice\, discuss frustrations and fears\, and connect with 
 others on a similar journey.\n\nTo give everyone a chance to participate i
 n the virtual environment\, this session will be limited to 8 individuals.
  Please RSVP today\, and you'll receive instructions to join from your com
 puter or phone.
X-WR-RELCALID:bab66cc81836f871c44d3a43d5e66713
X-WR-TIMEZONE:America/New_York
BEGIN:VTIMEZONE
TZID:America/New_York
BEGIN:STANDARD
TZNAME:EST
DTSTART:20191103T020000
TZOFFSETFROM:-0400
TZOFFSETTO:-0500
RDATE:20201101T020000
END:STANDARD
BEGIN:DAYLIGHT
TZNAME:EDT
DTSTART:20200308T020000
TZOFFSETFROM:-0500
TZOFFSETTO:-0400
RDATE:20210314T020000
END:DAYLIGHT
END:VTIMEZONE
BEGIN:VEVENT
UID:73409f0f-130f-464a-8995-477eba7b0166
DTSTAMP:20260424T133303Z
DESCRIPTION:We're going virtual! Insight families and friends of those with
  Alzheimer’s disease\, dementia\, or other memory impairments are all welc
 ome to join us. This group gives caregivers the opportunity to share tips 
 and practical advice\, discuss frustrations and fears\, and connect with o
 thers on a similar journey.\n\nTo give everyone a chance to participate in
  the virtual environment\, this session will be limited to 8 individuals. 
 Please RSVP today\, and you'll receive instructions to join from your comp
 uter or phone.
DTSTART;TZID=America/New_York:20200406T193000
DTEND;TZID=America/New_York:20200406T210000
LOCATION:Virtual
SUMMARY:IMCC Caregiver Support Group - Virtual Meeting
END:VEVENT
END:VCALENDAR
