BEGIN:VCALENDAR
VERSION:2.0
PRODID:-//www.insightmcc.org//NONSGML kigkonsult.se iCalcreator 2.30.10//
CALSCALE:GREGORIAN
METHOD:PUBLISH
UID:05cb3122-6740-4bc1-af5d-baa50cff24a8
X-WR-CALDESC:Caring for a loved one? Have caregiving challenges and questio
 ns?\nThe goal of this conference is to connect you with support and soluti
 ons\; empower you with insights and information\; and educate you with eng
 aging and enlightening presentations.\n\nYou’ll want to attend the confere
 nce if:\n - You care for (or will care for) a family member or friend\;\n 
 - You work with (or want to work with) persons requiring care\, either in 
 your own business or in an organization or agency\;\n - You offer products
  and/or services for family caregivers and/or those in their care.\n\nThe 
 conference will include an exhibitor hall and educational sessions.\n\nReg
 istration is required. Registration is $25. The cost includes a program gu
 ide\, access to the exhibitor hall\, educational sessions\, breakfast and 
 lunch. Respite care will be provided by the event sponsor\, Right At Home\
 , but must be reserved no later than April 5.
X-WR-RELCALID:b3d05ebdd93044b923f3816f7677a392
X-WR-TIMEZONE:America/New_York
BEGIN:VTIMEZONE
TZID:America/New_York
BEGIN:STANDARD
TZNAME:EST
DTSTART:20191103T020000
TZOFFSETFROM:-0400
TZOFFSETTO:-0500
RDATE:20201101T020000
END:STANDARD
BEGIN:DAYLIGHT
TZNAME:EDT
DTSTART:20200308T020000
TZOFFSETFROM:-0500
TZOFFSETTO:-0400
RDATE:20210314T020000
END:DAYLIGHT
END:VTIMEZONE
BEGIN:VEVENT
UID:70e0ec44-d5ae-4fe9-8c21-923509cc7779
DTSTAMP:20260424T133618Z
DESCRIPTION:Caring for a loved one? Have caregiving challenges and question
 s?\nThe goal of this conference is to connect you with support and solutio
 ns\; empower you with insights and information\; and educate you with enga
 ging and enlightening presentations.\n\nYou’ll want to attend the conferen
 ce if:\n - You care for (or will care for) a family member or friend\;\n -
  You work with (or want to work with) persons requiring care\, either in y
 our own business or in an organization or agency\;\n - You offer products 
 and/or services for family caregivers and/or those in their care.\n\nThe c
 onference will include an exhibitor hall and educational sessions.\n\nRegi
 stration is required. Registration is $25. The cost includes a program gui
 de\, access to the exhibitor hall\, educational sessions\, breakfast and l
 unch. Respite care will be provided by the event sponsor\, Right At Home\,
  but must be reserved no later than April 5.
DTSTART;TZID=America/New_York:20200418T083000
DTEND;TZID=America/New_York:20200418T153000
LOCATION:Strategic Management Partners\, 12934 Harbor Drive\, Lake Ridge\, 
 VA 22192
SUMMARY:Navigating the Caregiving Journey Conference - CANCELLED
END:VEVENT
END:VCALENDAR
