BEGIN:VCALENDAR
VERSION:2.0
PRODID:-//www.insightmcc.org//NONSGML kigkonsult.se iCalcreator 2.30.10//
CALSCALE:GREGORIAN
METHOD:PUBLISH
UID:bbe65a8a-7aeb-4329-9cbd-e95f6ab76287
X-WR-CALDESC:We're going virtual! Insight families and friends of those wit
 h Alzheimer’s disease\, dementia\, or other memory impairments are all wel
 come to join us. This group gives caregivers the opportunity to share tips
  and practical advice\, discuss frustrations and fears\, and connect with 
 others on a similar journey.\n\nPlease RSVP today\, and you'll receive ins
 tructions to join from your computer or phone.
X-WR-RELCALID:d8114c312d7a2913d3883c7b8fe243c8
X-WR-TIMEZONE:America/New_York
BEGIN:VTIMEZONE
TZID:America/New_York
BEGIN:STANDARD
TZNAME:EST
DTSTART:20191103T020000
TZOFFSETFROM:-0400
TZOFFSETTO:-0500
RDATE:20201101T020000
RDATE:20211107T020000
END:STANDARD
BEGIN:DAYLIGHT
TZNAME:EDT
DTSTART:20200308T020000
TZOFFSETFROM:-0500
TZOFFSETTO:-0400
RDATE:20210314T020000
END:DAYLIGHT
END:VTIMEZONE
BEGIN:VEVENT
UID:7d2f005c-85a8-4dcf-a17d-18c750b2b3a3
DTSTAMP:20260424T121404Z
DESCRIPTION:We're going virtual! Insight families and friends of those with
  Alzheimer’s disease\, dementia\, or other memory impairments are all welc
 ome to join us. This group gives caregivers the opportunity to share tips 
 and practical advice\, discuss frustrations and fears\, and connect with o
 thers on a similar journey.\n\nPlease RSVP today\, and you'll receive inst
 ructions to join from your computer or phone.
DTSTART;TZID=America/New_York:20200522T130000
DTEND;TZID=America/New_York:20200522T143000
LOCATION:Virtual
SUMMARY:IMCC Caregiver Support Group - Virtual Meeting
END:VEVENT
END:VCALENDAR
