BEGIN:VCALENDAR
VERSION:2.0
PRODID:-//www.insightmcc.org//NONSGML kigkonsult.se iCalcreator 2.30.10//
CALSCALE:GREGORIAN
METHOD:PUBLISH
UID:82ec430f-04cb-42d6-8bd2-ea619fd21bd1
X-WR-CALDESC:We're meeting virtually! Insight families and friends of those
  with Alzheimer’s disease\, dementia\, or other memory impairments are all
  welcome to join us. This group gives caregivers the opportunity to share 
 tips and practical advice\, discuss frustrations and fears\, and connect w
 ith others on a similar journey.\n\nPlease RSVP today\, and you'll receive
  instructions to join from your computer or phone.
X-WR-RELCALID:d764d7d46f747c27599dc53e1f02a225
X-WR-TIMEZONE:America/New_York
BEGIN:VTIMEZONE
TZID:America/New_York
BEGIN:STANDARD
TZNAME:EST
DTSTART:20191103T020000
TZOFFSETFROM:-0400
TZOFFSETTO:-0500
RDATE:20201101T020000
RDATE:20211107T020000
END:STANDARD
BEGIN:DAYLIGHT
TZNAME:EDT
DTSTART:20200308T020000
TZOFFSETFROM:-0500
TZOFFSETTO:-0400
RDATE:20210314T020000
END:DAYLIGHT
END:VTIMEZONE
BEGIN:VEVENT
UID:fbc0a4b4-b1fc-4d94-91e9-0ad7bcbd2208
DTSTAMP:20260424T102952Z
DESCRIPTION:We're meeting virtually! Insight families and friends of those 
 with Alzheimer’s disease\, dementia\, or other memory impairments are all 
 welcome to join us. This group gives caregivers the opportunity to share t
 ips and practical advice\, discuss frustrations and fears\, and connect wi
 th others on a similar journey.\n\nPlease RSVP today\, and you'll receive 
 instructions to join from your computer or phone.
DTSTART;TZID=America/New_York:20200615T193000
DTEND;TZID=America/New_York:20200615T210000
LOCATION:Virtual
SUMMARY:IMCC Caregiver Support Group - Virtual Meeting
END:VEVENT
END:VCALENDAR
