BEGIN:VCALENDAR
VERSION:2.0
PRODID:-//www.insightmcc.org//NONSGML kigkonsult.se iCalcreator 2.30.10//
CALSCALE:GREGORIAN
METHOD:PUBLISH
UID:a13887f9-1fd6-41fa-aa15-760119f12222
X-WR-CALDESC:This group is specifically designed for those who have lost a 
 family member to dementia. Insight is partnering with Capital Caring Healt
 h to offer this group\, facilitated by Mike Ridge\, MSW\, MCSW\, Grief Cou
 nselor at Capital Caring Health. Anyone looking for bereavement support is
  welcome to join.\n\nTo give everyone a chance to participate in the virtu
 al environment\, this session will be limited to 10 individuals. Please RS
 VP today\, and you'll receive instructions to join from your computer or p
 hone.
X-WR-RELCALID:4d7f36580d4546d4a40ce283d32b868d
X-WR-TIMEZONE:America/New_York
BEGIN:VTIMEZONE
TZID:America/New_York
BEGIN:STANDARD
TZNAME:EST
DTSTART:20191103T020000
TZOFFSETFROM:-0400
TZOFFSETTO:-0500
RDATE:20201101T020000
RDATE:20211107T020000
END:STANDARD
BEGIN:DAYLIGHT
TZNAME:EDT
DTSTART:20200308T020000
TZOFFSETFROM:-0500
TZOFFSETTO:-0400
RDATE:20210314T020000
END:DAYLIGHT
END:VTIMEZONE
BEGIN:VEVENT
UID:03b64cc7-54c4-40d7-81eb-38679d80269a
DTSTAMP:20260424T105051Z
DESCRIPTION:This group is specifically designed for those who have lost a f
 amily member to dementia. Insight is partnering with Capital Caring Health
  to offer this group\, facilitated by Mike Ridge\, MSW\, MCSW\, Grief Coun
 selor at Capital Caring Health. Anyone looking for bereavement support is 
 welcome to join.\n\nTo give everyone a chance to participate in the virtua
 l environment\, this session will be limited to 10 individuals. Please RSV
 P today\, and you'll receive instructions to join from your computer or ph
 one.
DTSTART;TZID=America/New_York:20200616T140000
DTEND;TZID=America/New_York:20200616T153000
LOCATION:Virtual
SUMMARY:Grief Support Group - Virtual Meeting
END:VEVENT
END:VCALENDAR
