BEGIN:VCALENDAR
VERSION:2.0
PRODID:-//www.insightmcc.org//NONSGML kigkonsult.se iCalcreator 2.30.10//
CALSCALE:GREGORIAN
METHOD:PUBLISH
UID:b6b688fb-739e-49f3-81f9-81b540e7a66b
X-WR-CALDESC:Learn more about age-related changes in memory and learning\, 
 and practices to keep your brain sharp while at home! Learn what to expect
 \, what’s “normal\,” and when it’s time to seek a doctor’s input. \n\nThis
  caregiver webinar is brought to you by Arlington County 55+ Senior Center
 s and presented by Insight Memory Care Center. After registering\, you wil
 l receive a confirmation email containing information about joining the we
 binar.
X-WR-RELCALID:c333e34d5669db0a47c187dbd2f4fb4c
X-WR-TIMEZONE:America/New_York
BEGIN:VTIMEZONE
TZID:America/New_York
BEGIN:STANDARD
TZNAME:EST
DTSTART:20191103T020000
TZOFFSETFROM:-0400
TZOFFSETTO:-0500
RDATE:20201101T020000
RDATE:20211107T020000
END:STANDARD
BEGIN:DAYLIGHT
TZNAME:EDT
DTSTART:20200308T020000
TZOFFSETFROM:-0500
TZOFFSETTO:-0400
RDATE:20210314T020000
END:DAYLIGHT
END:VTIMEZONE
BEGIN:VEVENT
UID:6708642f-6a43-475a-b211-1cecf62f52cb
DTSTAMP:20260424T103443Z
DESCRIPTION:Learn more about age-related changes in memory and learning\, a
 nd practices to keep your brain sharp while at home! Learn what to expect\
 , what’s “normal\,” and when it’s time to seek a doctor’s input. \n\nThis 
 caregiver webinar is brought to you by Arlington County 55+ Senior Centers
  and presented by Insight Memory Care Center. After registering\, you will
  receive a confirmation email containing information about joining the web
 inar.
DTSTART;TZID=America/New_York:20200622T140000
DTEND;TZID=America/New_York:20200622T153000
LOCATION:Virtual
SUMMARY:Keep Your Brain Healthy at Home
END:VEVENT
END:VCALENDAR
