BEGIN:VCALENDAR
VERSION:2.0
PRODID:-//www.insightmcc.org//NONSGML kigkonsult.se iCalcreator 2.30.10//
CALSCALE:GREGORIAN
METHOD:PUBLISH
UID:5b2cfd8e-de62-4fed-82c3-695471ba0842
X-WR-CALDESC:Join us to learn about changes that occur with age\, warning s
 igns of a memory problem\, and what to do if someone you love is experienc
 ing symptoms.\n\nThis class is hosted by Potomac Place Assisted Living & M
 emory Care. Log-in information will be sent to registrants prior to the cl
 ass!\n\nPresenter: Lindsey Vajpeyi\, Director of Education & Outreach\, In
 sight Memory Care Center
X-WR-RELCALID:bfb4d007da226e329ca06093d27d3067
X-WR-TIMEZONE:America/New_York
BEGIN:VTIMEZONE
TZID:America/New_York
BEGIN:STANDARD
TZNAME:EST
DTSTART:20191103T020000
TZOFFSETFROM:-0400
TZOFFSETTO:-0500
RDATE:20201101T020000
RDATE:20211107T020000
END:STANDARD
BEGIN:DAYLIGHT
TZNAME:EDT
DTSTART:20200308T020000
TZOFFSETFROM:-0500
TZOFFSETTO:-0400
RDATE:20210314T020000
END:DAYLIGHT
END:VTIMEZONE
BEGIN:VEVENT
UID:3d35fedc-10e5-4a74-9128-351c6aefc89d
DTSTAMP:20260424T093005Z
DESCRIPTION:Join us to learn about changes that occur with age\, warning si
 gns of a memory problem\, and what to do if someone you love is experienci
 ng symptoms.\n\nThis class is hosted by Potomac Place Assisted Living & Me
 mory Care. Log-in information will be sent to registrants prior to the cla
 ss!\n\nPresenter: Lindsey Vajpeyi\, Director of Education & Outreach\, Ins
 ight Memory Care Center
DTSTART;TZID=America/New_York:20200729T140000
DTEND;TZID=America/New_York:20200729T150000
LOCATION:Virtual
SUMMARY:Normal Aging vs. Dementia
END:VEVENT
END:VCALENDAR
