BEGIN:VCALENDAR
VERSION:2.0
PRODID:-//www.insightmcc.org//NONSGML kigkonsult.se iCalcreator 2.30.10//
CALSCALE:GREGORIAN
METHOD:PUBLISH
UID:8504edf6-9c6c-4254-b25a-9e2fa58bca91
X-WR-CALDESC:Make each day more successful! Learn tips and tricks for provi
 ding hands-on care for eating\, dressing\, bathing\, hygiene and toileting
 . \n\nThis class will be held virtually. Log-in information will be sent t
 o registrants prior to the class. This program is a part of our ongoing Cl
 asses for Caregivers series. All sessions are FREE\, and held the third We
 dnesday of each month from 1:00 to 3:00 pm.\n\n<strong>Presenter</strong>
 \nAnita Irvin\, Executive Director\nAnita has over 25 years of experience 
 in the field of long-term care across multiple settings including skilled 
 nursing facilities\, memory care and assisted living communities. Anita is
  a Certified Memory Impairment Specialist\, a Certified Dementia Practitio
 ner and an Assisted Living Administrator and Preceptor. She brings compass
 ion and a passion for working with families throughout their journey.
X-WR-RELCALID:089bbbe63ded417cd9d90cf5fef00d07
X-WR-TIMEZONE:America/New_York
BEGIN:VTIMEZONE
TZID:America/New_York
BEGIN:STANDARD
TZNAME:EST
DTSTART:20191103T020000
TZOFFSETFROM:-0400
TZOFFSETTO:-0500
RDATE:20201101T020000
RDATE:20211107T020000
END:STANDARD
BEGIN:DAYLIGHT
TZNAME:EDT
DTSTART:20200308T020000
TZOFFSETFROM:-0500
TZOFFSETTO:-0400
RDATE:20210314T020000
END:DAYLIGHT
END:VTIMEZONE
BEGIN:VEVENT
UID:7f48aae9-34d2-4ca0-bc8c-babe6668fe47
DTSTAMP:20260424T080335Z
DESCRIPTION:Make each day more successful! Learn tips and tricks for provid
 ing hands-on care for eating\, dressing\, bathing\, hygiene and toileting.
  \n\nThis class will be held virtually. Log-in information will be sent to
  registrants prior to the class. This program is a part of our ongoing Cla
 sses for Caregivers series. All sessions are FREE\, and held the third Wed
 nesday of each month from 1:00 to 3:00 pm.\n\n<strong>Presenter</strong>\n
 Anita Irvin\, Executive Director\nAnita has over 25 years of experience in
  the field of long-term care across multiple settings including skilled nu
 rsing facilities\, memory care and assisted living communities. Anita is a
  Certified Memory Impairment Specialist\, a Certified Dementia Practitione
 r and an Assisted Living Administrator and Preceptor. She brings compassio
 n and a passion for working with families throughout their journey.
DTSTART;TZID=America/New_York:20200819T130000
DTEND;TZID=America/New_York:20200819T150000
LOCATION:Virtual
SUMMARY:Strategies for Activities of Daily Living Success!
END:VEVENT
END:VCALENDAR
