BEGIN:VCALENDAR
VERSION:2.0
PRODID:-//www.insightmcc.org//NONSGML kigkonsult.se iCalcreator 2.30.10//
CALSCALE:GREGORIAN
METHOD:PUBLISH
UID:fc73a141-2550-4101-93fa-558d63becb78
X-WR-CALDESC:Learn how to define dementia\, distinguish the different types
 \, and gain an understanding of the typical path of disease progression.\n
 \n<strong>Presenter:</strong>\nLindsey Vajpeyi\, Director of Education & O
 utreach\, Insight Memory Care Center\n\nDementia Friendly Fairfax envision
 s our community as a place where people living with dementia and their car
 e partners will be able to engage in a variety of activities\, be supporte
 d in the highest quality of life\, and can live independently for as long 
 as possible.\n\nDementia Friendly Fairfax initiative started in July 2019 
 through a partnership with Goodwin House  and Insight Memory Care Center. 
 The Fairfax Area Commission on Aging and Fairfax Area Agency on Aging supp
 ort Dementia Friendly Fairfax.
X-WR-RELCALID:9baa9bb86f87f4e3c741560134070138
X-WR-TIMEZONE:America/New_York
BEGIN:VTIMEZONE
TZID:America/New_York
BEGIN:STANDARD
TZNAME:EST
DTSTART:20191103T020000
TZOFFSETFROM:-0400
TZOFFSETTO:-0500
RDATE:20201101T020000
RDATE:20211107T020000
END:STANDARD
BEGIN:DAYLIGHT
TZNAME:EDT
DTSTART:20200308T020000
TZOFFSETFROM:-0500
TZOFFSETTO:-0400
RDATE:20210314T020000
RDATE:20220313T020000
END:DAYLIGHT
END:VTIMEZONE
BEGIN:VEVENT
UID:b89280fd-7f99-4a0b-b505-4b6a4e50ba78
DTSTAMP:20260424T060501Z
DESCRIPTION:Learn how to define dementia\, distinguish the different types\
 , and gain an understanding of the typical path of disease progression.\n
 \n<strong>Presenter:</strong>\nLindsey Vajpeyi\, Director of Education & O
 utreach\, Insight Memory Care Center\n\nDementia Friendly Fairfax envision
 s our community as a place where people living with dementia and their car
 e partners will be able to engage in a variety of activities\, be supporte
 d in the highest quality of life\, and can live independently for as long 
 as possible.\n\nDementia Friendly Fairfax initiative started in July 2019 
 through a partnership with Goodwin House  and Insight Memory Care Center. 
 The Fairfax Area Commission on Aging and Fairfax Area Agency on Aging supp
 ort Dementia Friendly Fairfax.
DTSTART;TZID=America/New_York:20200915T110000
DTEND;TZID=America/New_York:20200915T120000
LOCATION:Virtual
SUMMARY:Dementia Friendly Fairfax: Dementia 101
END:VEVENT
END:VCALENDAR
