BEGIN:VCALENDAR
VERSION:2.0
PRODID:-//www.insightmcc.org//NONSGML kigkonsult.se iCalcreator 2.30.10//
CALSCALE:GREGORIAN
METHOD:PUBLISH
UID:bbef284f-b499-4407-92c2-c3a9e109b1c8
X-WR-CALDESC:For many\, having a loved one diagnosed with dementia can caus
 e a range of emotions\, from shock to relief. We will discuss what familie
 s need to do to start planning while also adjusting to life with a new nor
 mal.\n\nThis caregiver webinar is hosted by Sunrise Senior Living and pres
 ented by Insight Memory Care Center. After registering\, you will receive 
 a confirmation email containing information about joining the webinar.
X-WR-RELCALID:0e6585515a4e5b7f2fe304bdad61545d
X-WR-TIMEZONE:America/New_York
BEGIN:VTIMEZONE
TZID:America/New_York
BEGIN:STANDARD
TZNAME:EST
DTSTART:20201101T020000
TZOFFSETFROM:-0400
TZOFFSETTO:-0500
RDATE:20211107T020000
END:STANDARD
BEGIN:DAYLIGHT
TZNAME:EDT
DTSTART:20200308T020000
TZOFFSETFROM:-0500
TZOFFSETTO:-0400
RDATE:20210314T020000
RDATE:20220313T020000
END:DAYLIGHT
END:VTIMEZONE
BEGIN:VEVENT
UID:9f4e5f26-d8d9-4e4f-ba45-3dde99d73ee8
DTSTAMP:20260424T031954Z
DESCRIPTION:For many\, having a loved one diagnosed with dementia can cause
  a range of emotions\, from shock to relief. We will discuss what families
  need to do to start planning while also adjusting to life with a new norm
 al.\n\nThis caregiver webinar is hosted by Sunrise Senior Living and prese
 nted by Insight Memory Care Center. After registering\, you will receive a
  confirmation email containing information about joining the webinar.
DTSTART;TZID=America/New_York:20201105T110000
DTEND;TZID=America/New_York:20201105T120000
LOCATION:Virtual
SUMMARY:Mom's Been Diagnosed with Dementia: Now What?
END:VEVENT
END:VCALENDAR
