BEGIN:VCALENDAR
VERSION:2.0
PRODID:-//www.insightmcc.org//NONSGML kigkonsult.se iCalcreator 2.30.10//
CALSCALE:GREGORIAN
METHOD:PUBLISH
UID:63311e83-f3d6-4443-a1ce-86fb6c1b528f
X-WR-CALDESC:Insight will be closed for the Thanksgiving holiday. Happy Tha
 nksgiving!
X-WR-RELCALID:2f50b170ec2262a16847abc3b2218540
X-WR-TIMEZONE:America/New_York
BEGIN:VTIMEZONE
TZID:America/New_York
BEGIN:STANDARD
TZNAME:EST
DTSTART:20201101T020000
TZOFFSETFROM:-0400
TZOFFSETTO:-0500
RDATE:20211107T020000
END:STANDARD
BEGIN:DAYLIGHT
TZNAME:EDT
DTSTART:20200308T020000
TZOFFSETFROM:-0500
TZOFFSETTO:-0400
RDATE:20210314T020000
RDATE:20220313T020000
END:DAYLIGHT
END:VTIMEZONE
BEGIN:VEVENT
UID:8ddb6a7b-6f0b-4e6c-8c5c-2703b961d25a
DTSTAMP:20260424T031358Z
DESCRIPTION:Insight will be closed for the Thanksgiving holiday. Happy Than
 ksgiving!
DTSTART;TZID=America/New_York:20201126T000000
DTEND;TZID=America/New_York:20201126T235900
LOCATION:
SUMMARY:Insight Closed
END:VEVENT
END:VCALENDAR
