BEGIN:VCALENDAR
VERSION:2.0
PRODID:-//www.insightmcc.org//NONSGML kigkonsult.se iCalcreator 2.30.10//
CALSCALE:GREGORIAN
METHOD:PUBLISH
UID:965fedc7-b74a-474a-afc7-7fe7e1d1197f
X-WR-CALDESC:Insight will be closed for the Thanksgiving holiday. Happy Tha
 nksgiving!
X-WR-RELCALID:5d99c946efaf177161685f56604d1e82
X-WR-TIMEZONE:America/New_York
BEGIN:VTIMEZONE
TZID:America/New_York
BEGIN:STANDARD
TZNAME:EST
DTSTART:20201101T020000
TZOFFSETFROM:-0400
TZOFFSETTO:-0500
RDATE:20211107T020000
END:STANDARD
BEGIN:DAYLIGHT
TZNAME:EDT
DTSTART:20200308T020000
TZOFFSETFROM:-0500
TZOFFSETTO:-0400
RDATE:20210314T020000
RDATE:20220313T020000
END:DAYLIGHT
END:VTIMEZONE
BEGIN:VEVENT
UID:d419d03d-c181-4641-9d5c-d7a24d296fc7
DTSTAMP:20260424T031357Z
DESCRIPTION:Insight will be closed for the Thanksgiving holiday. Happy Than
 ksgiving!
DTSTART;TZID=America/New_York:20201127T000000
DTEND;TZID=America/New_York:20201127T235900
LOCATION:
SUMMARY:Insight Closed
END:VEVENT
END:VCALENDAR
