BEGIN:VCALENDAR
VERSION:2.0
PRODID:-//www.insightmcc.org//NONSGML kigkonsult.se iCalcreator 2.30.10//
CALSCALE:GREGORIAN
METHOD:PUBLISH
UID:1d519727-749d-4a31-9db9-c383667ec860
X-WR-CALDESC:Insight will be closed for the winter holidays. Happy Holidays
 !
X-WR-RELCALID:6fa46ac197144d66cc493ed4531f7b8c
X-WR-TIMEZONE:America/New_York
BEGIN:VTIMEZONE
TZID:America/New_York
BEGIN:STANDARD
TZNAME:EST
DTSTART:20201101T020000
TZOFFSETFROM:-0400
TZOFFSETTO:-0500
RDATE:20211107T020000
END:STANDARD
BEGIN:DAYLIGHT
TZNAME:EDT
DTSTART:20200308T020000
TZOFFSETFROM:-0500
TZOFFSETTO:-0400
RDATE:20210314T020000
RDATE:20220313T020000
END:DAYLIGHT
END:VTIMEZONE
BEGIN:VEVENT
UID:7c93c94c-3496-406a-a311-e16447273f49
DTSTAMP:20260424T014342Z
DESCRIPTION:Insight will be closed for the winter holidays. Happy Holidays!
DTSTART;TZID=America/New_York:20201224T000000
DTEND;TZID=America/New_York:20201224T235900
LOCATION:
SUMMARY:Insight Closed
END:VEVENT
END:VCALENDAR
