BEGIN:VCALENDAR
VERSION:2.0
PRODID:-//www.insightmcc.org//NONSGML kigkonsult.se iCalcreator 2.30.10//
CALSCALE:GREGORIAN
METHOD:PUBLISH
UID:fbbaf914-67e2-445f-95eb-d90f77dda15f
X-WR-CALDESC:Insight will be closed for the winter holidays. Happy Holidays
 !
X-WR-RELCALID:933f53d4ce660cd04d7a90e2a48f1c9a
X-WR-TIMEZONE:America/New_York
BEGIN:VTIMEZONE
TZID:America/New_York
BEGIN:STANDARD
TZNAME:EST
DTSTART:20201101T020000
TZOFFSETFROM:-0400
TZOFFSETTO:-0500
RDATE:20211107T020000
END:STANDARD
BEGIN:DAYLIGHT
TZNAME:EDT
DTSTART:20200308T020000
TZOFFSETFROM:-0500
TZOFFSETTO:-0400
RDATE:20210314T020000
RDATE:20220313T020000
END:DAYLIGHT
END:VTIMEZONE
BEGIN:VEVENT
UID:984153c4-a6df-4dd4-8ac9-b15e88913820
DTSTAMP:20260424T014320Z
DESCRIPTION:Insight will be closed for the winter holidays. Happy Holidays!
DTSTART;TZID=America/New_York:20201225T000000
DTEND;TZID=America/New_York:20201225T235900
LOCATION:
SUMMARY:Insight Closed
END:VEVENT
END:VCALENDAR
