BEGIN:VCALENDAR
VERSION:2.0
PRODID:-//www.insightmcc.org//NONSGML kigkonsult.se iCalcreator 2.30.10//
CALSCALE:GREGORIAN
METHOD:PUBLISH
UID:e18d1254-967e-4338-870a-4bf155cbcb81
X-WR-CALDESC:Insight will be closed for New Year's eve. Happy New Year!
X-WR-RELCALID:3a383a21e994663307b3019fe21daae5
X-WR-TIMEZONE:America/New_York
BEGIN:VTIMEZONE
TZID:America/New_York
BEGIN:STANDARD
TZNAME:EST
DTSTART:20201101T020000
TZOFFSETFROM:-0400
TZOFFSETTO:-0500
RDATE:20211107T020000
END:STANDARD
BEGIN:DAYLIGHT
TZNAME:EDT
DTSTART:20200308T020000
TZOFFSETFROM:-0500
TZOFFSETTO:-0400
RDATE:20210314T020000
RDATE:20220313T020000
END:DAYLIGHT
END:VTIMEZONE
BEGIN:VEVENT
UID:0c210ed7-b722-4dd0-bf0e-112a91c8840e
DTSTAMP:20260424T014320Z
DESCRIPTION:Insight will be closed for New Year's eve. Happy New Year!
DTSTART;TZID=America/New_York:20201231T000000
DTEND;TZID=America/New_York:20201231T235900
LOCATION:
SUMMARY:Insight Closed
END:VEVENT
END:VCALENDAR
