BEGIN:VCALENDAR
VERSION:2.0
PRODID:-//www.insightmcc.org//NONSGML kigkonsult.se iCalcreator 2.30.10//
CALSCALE:GREGORIAN
METHOD:PUBLISH
UID:7f7e6bc7-f471-4554-8567-7e822f849429
X-WR-CALDESC:Insight will be closed for Martin Luther King Jr Day. Enjoy yo
 ur holiday!
X-WR-RELCALID:b05f908e6df409797d1f76244965ec2e
X-WR-TIMEZONE:America/New_York
BEGIN:VTIMEZONE
TZID:America/New_York
BEGIN:STANDARD
TZNAME:EST
DTSTART:20201101T020000
TZOFFSETFROM:-0400
TZOFFSETTO:-0500
RDATE:20211107T020000
END:STANDARD
BEGIN:DAYLIGHT
TZNAME:EDT
DTSTART:20200308T020000
TZOFFSETFROM:-0500
TZOFFSETTO:-0400
RDATE:20210314T020000
RDATE:20220313T020000
END:DAYLIGHT
END:VTIMEZONE
BEGIN:VEVENT
UID:a8c1515a-9c66-4b2a-81ab-fda3c34502ed
DTSTAMP:20260424T001354Z
DESCRIPTION:Insight will be closed for Martin Luther King Jr Day. Enjoy you
 r holiday!
DTSTART;TZID=America/New_York:20210118T000000
DTEND;TZID=America/New_York:20210118T235900
LOCATION:
SUMMARY:Insight Closed
END:VEVENT
END:VCALENDAR
