BEGIN:VCALENDAR
VERSION:2.0
PRODID:-//www.insightmcc.org//NONSGML kigkonsult.se iCalcreator 2.30.10//
CALSCALE:GREGORIAN
METHOD:PUBLISH
UID:331c1401-62c1-4924-97c5-d08d5195e4e3
X-WR-CALDESC:Insight will be closed for President's Day. Enjoy your holiday
 !
X-WR-RELCALID:664b599d925cfaa5b51066aa2d1c7c4f
X-WR-TIMEZONE:America/New_York
BEGIN:VTIMEZONE
TZID:America/New_York
BEGIN:STANDARD
TZNAME:EST
DTSTART:20201101T020000
TZOFFSETFROM:-0400
TZOFFSETTO:-0500
RDATE:20211107T020000
END:STANDARD
BEGIN:DAYLIGHT
TZNAME:EDT
DTSTART:20200308T020000
TZOFFSETFROM:-0500
TZOFFSETTO:-0400
RDATE:20210314T020000
RDATE:20220313T020000
END:DAYLIGHT
END:VTIMEZONE
BEGIN:VEVENT
UID:cc1cb4de-82c8-4c0a-bc94-41413dc061e4
DTSTAMP:20260423T225541Z
DESCRIPTION:Insight will be closed for President's Day. Enjoy your holiday!
DTSTART;TZID=America/New_York:20210215T000000
DTEND;TZID=America/New_York:20210215T235900
LOCATION:
SUMMARY:Insight Closed
END:VEVENT
END:VCALENDAR
