BEGIN:VCALENDAR
VERSION:2.0
PRODID:-//www.insightmcc.org//NONSGML kigkonsult.se iCalcreator 2.30.10//
CALSCALE:GREGORIAN
METHOD:PUBLISH
UID:4c173a78-20a4-4270-afdb-27efcdcbe13e
X-WR-CALDESC:A caregiver’s needs are always at the bottom of the list. Lear
 n more about the impact of caregiving\, while also developing strategies f
 or self-care\, ways to deal with stress and how to maintain a healthy life
 style and take care of yourself!\n\nThis lunch and learn webinar is hosted
  by Virtual Center for Active Adults and ServiceSource\, and presented by 
 Insight Memory Care Center.
X-WR-RELCALID:c303cdd83b1010ef67fd92b610cac50e
X-WR-TIMEZONE:America/New_York
BEGIN:VTIMEZONE
TZID:America/New_York
BEGIN:STANDARD
TZNAME:EST
DTSTART:20201101T020000
TZOFFSETFROM:-0400
TZOFFSETTO:-0500
RDATE:20211107T020000
END:STANDARD
BEGIN:DAYLIGHT
TZNAME:EDT
DTSTART:20200308T020000
TZOFFSETFROM:-0500
TZOFFSETTO:-0400
RDATE:20210314T020000
RDATE:20220313T020000
END:DAYLIGHT
END:VTIMEZONE
BEGIN:VEVENT
UID:e0d0bfff-109c-4907-8600-16a1f4b435b4
DTSTAMP:20260423T230309Z
DESCRIPTION:A caregiver’s needs are always at the bottom of the list. Learn
  more about the impact of caregiving\, while also developing strategies fo
 r self-care\, ways to deal with stress and how to maintain a healthy lifes
 tyle and take care of yourself!\n\nThis lunch and learn webinar is hosted 
 by Virtual Center for Active Adults and ServiceSource\, and presented by I
 nsight Memory Care Center.
DTSTART;TZID=America/New_York:20210216T120000
DTEND;TZID=America/New_York:20210216T130000
LOCATION:Virtual
SUMMARY:Taking Care of Yourself: Tips to Surviving Caregiving
END:VEVENT
END:VCALENDAR
