BEGIN:VCALENDAR
VERSION:2.0
PRODID:-//www.insightmcc.org//NONSGML kigkonsult.se iCalcreator 2.30.10//
CALSCALE:GREGORIAN
METHOD:PUBLISH
UID:fc10fd87-7a51-44c6-aa60-c0821cc29c57
X-WR-CALDESC:Learn ways to keep individuals active and engaged in activitie
 s\, such as Music & Memory or a Multi-Sensory Environment\, and tips for m
 aking each day a little more personalized.\n\nThis lunch and learn webinar
  is hosted by Virtual Center for Active Adults and ServiceSource\, and pre
 sented by Insight Memory Care Center.
X-WR-RELCALID:af2fbff706c286d0a8327853a6d0f470
X-WR-TIMEZONE:America/New_York
BEGIN:VTIMEZONE
TZID:America/New_York
BEGIN:STANDARD
TZNAME:EST
DTSTART:20201101T020000
TZOFFSETFROM:-0400
TZOFFSETTO:-0500
RDATE:20211107T020000
END:STANDARD
BEGIN:DAYLIGHT
TZNAME:EDT
DTSTART:20210314T020000
TZOFFSETFROM:-0500
TZOFFSETTO:-0400
RDATE:20220313T020000
END:DAYLIGHT
END:VTIMEZONE
BEGIN:VEVENT
UID:689cac35-33cf-4cc4-9bd8-1fcce8ed242a
DTSTAMP:20260423T214009Z
DESCRIPTION:Learn ways to keep individuals active and engaged in activities
 \, such as Music & Memory or a Multi-Sensory Environment\, and tips for ma
 king each day a little more personalized.\n\nThis lunch and learn webinar 
 is hosted by Virtual Center for Active Adults and ServiceSource\, and pres
 ented by Insight Memory Care Center.
DTSTART;TZID=America/New_York:20210316T120000
DTEND;TZID=America/New_York:20210316T130000
LOCATION:Virtual
SUMMARY:Person-Centered Approach to Care: Caregiver Lunch Bunch
END:VEVENT
END:VCALENDAR
