BEGIN:VCALENDAR
VERSION:2.0
PRODID:-//www.insightmcc.org//NONSGML kigkonsult.se iCalcreator 2.30.10//
CALSCALE:GREGORIAN
METHOD:PUBLISH
UID:eb7568a5-464a-4347-a7eb-568fbebee635
X-WR-CALDESC:Learn more about age-related changes in memory and learning\, 
 and practices to keep your brain sharp! Learn what to expect\, what’s “nor
 mal\,” and when it’s time to seek a doctor’s input.\n\nThis caregiver webi
 nar is hosted by Langston-Brown 55+ Senior Center and presented by Insight
  Memory Care Center. Please contact epoole@arlingtonva.us to register for 
 the program.
X-WR-RELCALID:bf937b088a7c8c5a8c88823cb7df85f8
X-WR-TIMEZONE:America/New_York
BEGIN:VTIMEZONE
TZID:America/New_York
BEGIN:STANDARD
TZNAME:EST
DTSTART:20201101T020000
TZOFFSETFROM:-0400
TZOFFSETTO:-0500
RDATE:20211107T020000
END:STANDARD
BEGIN:DAYLIGHT
TZNAME:EDT
DTSTART:20210314T020000
TZOFFSETFROM:-0500
TZOFFSETTO:-0400
RDATE:20220313T020000
END:DAYLIGHT
END:VTIMEZONE
BEGIN:VEVENT
UID:2c795db6-514b-4990-ae47-8ea352f84975
DTSTAMP:20260423T213903Z
DESCRIPTION:Learn more about age-related changes in memory and learning\, a
 nd practices to keep your brain sharp! Learn what to expect\, what’s “norm
 al\,” and when it’s time to seek a doctor’s input.\n\nThis caregiver webin
 ar is hosted by Langston-Brown 55+ Senior Center and presented by Insight 
 Memory Care Center. Please contact epoole@arlingtonva.us to register for t
 he program.
DTSTART;TZID=America/New_York:20210319T110000
DTEND;TZID=America/New_York:20210319T120000
LOCATION:Virtual
SUMMARY:Brain Health as You Age
END:VEVENT
END:VCALENDAR
