BEGIN:VCALENDAR
VERSION:2.0
PRODID:-//www.insightmcc.org//NONSGML kigkonsult.se iCalcreator 2.30.10//
CALSCALE:GREGORIAN
METHOD:PUBLISH
UID:16db5a39-80f7-4cce-9122-80806d9f769d
X-WR-CALDESC:Insight will be closed for Memorial Day. Enjoy your holiday!
X-WR-RELCALID:3c96ee39a7147259f46b3301d6976ed7
X-WR-TIMEZONE:America/New_York
BEGIN:VTIMEZONE
TZID:America/New_York
BEGIN:STANDARD
TZNAME:EST
DTSTART:20201101T020000
TZOFFSETFROM:-0400
TZOFFSETTO:-0500
RDATE:20211107T020000
RDATE:20221106T020000
END:STANDARD
BEGIN:DAYLIGHT
TZNAME:EDT
DTSTART:20210314T020000
TZOFFSETFROM:-0500
TZOFFSETTO:-0400
RDATE:20220313T020000
END:DAYLIGHT
END:VTIMEZONE
BEGIN:VEVENT
UID:ebb32d11-c0b9-41c9-8ec8-08d74a787c5a
DTSTAMP:20260423T184244Z
DESCRIPTION:Insight will be closed for Memorial Day. Enjoy your holiday!
DTSTART;TZID=America/New_York:20210531T000000
DTEND;TZID=America/New_York:20210531T235900
LOCATION:
SUMMARY:Insight Closed
END:VEVENT
END:VCALENDAR
