BEGIN:VCALENDAR
VERSION:2.0
PRODID:-//www.insightmcc.org//NONSGML kigkonsult.se iCalcreator 2.30.10//
CALSCALE:GREGORIAN
METHOD:PUBLISH
UID:b0f97718-c836-444e-a582-d1cf70805740
X-WR-CALDESC:Insight will be closed for Juneteenth. Enjoy your holiday!
X-WR-RELCALID:ad1273cb3e4774716c87d133f5927ca4
X-WR-TIMEZONE:America/New_York
BEGIN:VTIMEZONE
TZID:America/New_York
BEGIN:STANDARD
TZNAME:EST
DTSTART:20201101T020000
TZOFFSETFROM:-0400
TZOFFSETTO:-0500
RDATE:20211107T020000
RDATE:20221106T020000
END:STANDARD
BEGIN:DAYLIGHT
TZNAME:EDT
DTSTART:20210314T020000
TZOFFSETFROM:-0500
TZOFFSETTO:-0400
RDATE:20220313T020000
END:DAYLIGHT
END:VTIMEZONE
BEGIN:VEVENT
UID:14ead9db-0dbb-42ef-8ae0-2f0e33116910
DTSTAMP:20260423T172230Z
DESCRIPTION:Insight will be closed for Juneteenth. Enjoy your holiday!
DTSTART;TZID=America/New_York:20210618T000000
DTEND;TZID=America/New_York:20210618T235900
LOCATION:
SUMMARY:Insight Closed
END:VEVENT
END:VCALENDAR
