BEGIN:VCALENDAR
VERSION:2.0
PRODID:-//www.insightmcc.org//NONSGML kigkonsult.se iCalcreator 2.30.10//
CALSCALE:GREGORIAN
METHOD:PUBLISH
UID:4ceaf4d1-5c7d-4e7a-9e25-4c882eb4a882
X-WR-CALDESC:Insight will be closed for Independence Day. Enjoy your holida
 y!
X-WR-RELCALID:4998bb0db0b74a4714fa4f0a029cbc04
X-WR-TIMEZONE:America/New_York
BEGIN:VTIMEZONE
TZID:America/New_York
BEGIN:STANDARD
TZNAME:EST
DTSTART:20201101T020000
TZOFFSETFROM:-0400
TZOFFSETTO:-0500
RDATE:20211107T020000
RDATE:20221106T020000
END:STANDARD
BEGIN:DAYLIGHT
TZNAME:EDT
DTSTART:20210314T020000
TZOFFSETFROM:-0500
TZOFFSETTO:-0400
RDATE:20220313T020000
END:DAYLIGHT
END:VTIMEZONE
BEGIN:VEVENT
UID:6eb4966b-c798-40fa-8de9-b7c4c88f5f6c
DTSTAMP:20260423T160840Z
DESCRIPTION:Insight will be closed for Independence Day. Enjoy your holiday
 !
DTSTART;TZID=America/New_York:20210705T000000
DTEND;TZID=America/New_York:20210705T235900
LOCATION:
SUMMARY:Insight Closed
END:VEVENT
END:VCALENDAR
