BEGIN:VCALENDAR
VERSION:2.0
PRODID:-//www.insightmcc.org//NONSGML kigkonsult.se iCalcreator 2.30.10//
CALSCALE:GREGORIAN
METHOD:PUBLISH
UID:f7c35b1a-e7c2-4de5-adc7-cb4cb3d4f22d
X-WR-CALDESC:Join us for a discussion on typical cognitive changes that occ
 ur with age\, warning signs of a memory problem\, reversible and irreversi
 ble causes of dementia\, and what to do if you are concerned about yoursel
 f or a loved one.\n\nThis class is free for participants to attend. You wi
 ll need to create a free GetSetUp account to register for the class.
X-WR-RELCALID:5542911e67a9f437eea651a35c28044f
X-WR-TIMEZONE:America/New_York
BEGIN:VTIMEZONE
TZID:America/New_York
BEGIN:STANDARD
TZNAME:EST
DTSTART:20201101T020000
TZOFFSETFROM:-0400
TZOFFSETTO:-0500
RDATE:20211107T020000
RDATE:20221106T020000
END:STANDARD
BEGIN:DAYLIGHT
TZNAME:EDT
DTSTART:20210314T020000
TZOFFSETFROM:-0500
TZOFFSETTO:-0400
RDATE:20220313T020000
END:DAYLIGHT
END:VTIMEZONE
BEGIN:VEVENT
UID:212cdf3c-e907-4865-b236-7aed7a8a00d8
DTSTAMP:20260423T161012Z
DESCRIPTION:Join us for a discussion on typical cognitive changes that occu
 r with age\, warning signs of a memory problem\, reversible and irreversib
 le causes of dementia\, and what to do if you are concerned about yourself
  or a loved one.\n\nThis class is free for participants to attend. You wil
 l need to create a free GetSetUp account to register for the class.
DTSTART;TZID=America/New_York:20210712T120000
DTEND;TZID=America/New_York:20210712T130000
LOCATION:Virtual
SUMMARY:Normal Aging vs. Dementia
END:VEVENT
END:VCALENDAR
